BEGIN:VCALENDAR
VERSION:2.0
PRODID:-//Lux Mundi - ECPv6.15.16//NONSGML v1.0//EN
CALSCALE:GREGORIAN
METHOD:PUBLISH
X-WR-CALNAME:Lux Mundi
X-ORIGINAL-URL:https://lux-mundi.org
X-WR-CALDESC:Events for Lux Mundi
REFRESH-INTERVAL;VALUE=DURATION:PT1H
X-Robots-Tag:noindex
X-PUBLISHED-TTL:PT1H
BEGIN:VTIMEZONE
TZID:Europe/Madrid
BEGIN:DAYLIGHT
TZOFFSETFROM:+0100
TZOFFSETTO:+0200
TZNAME:CEST
DTSTART:20250330T010000
END:DAYLIGHT
BEGIN:STANDARD
TZOFFSETFROM:+0200
TZOFFSETTO:+0100
TZNAME:CET
DTSTART:20251026T010000
END:STANDARD
BEGIN:DAYLIGHT
TZOFFSETFROM:+0100
TZOFFSETTO:+0200
TZNAME:CEST
DTSTART:20260329T010000
END:DAYLIGHT
BEGIN:STANDARD
TZOFFSETFROM:+0200
TZOFFSETTO:+0100
TZNAME:CET
DTSTART:20261025T010000
END:STANDARD
BEGIN:DAYLIGHT
TZOFFSETFROM:+0100
TZOFFSETTO:+0200
TZNAME:CEST
DTSTART:20270328T010000
END:DAYLIGHT
BEGIN:STANDARD
TZOFFSETFROM:+0200
TZOFFSETTO:+0100
TZNAME:CET
DTSTART:20271031T010000
END:STANDARD
END:VTIMEZONE
BEGIN:VEVENT
DTSTART;TZID=Europe/Madrid:20260111T110000
DTEND;TZID=Europe/Madrid:20260111T133000
DTSTAMP:20260424T221847
CREATED:20260103T225625Z
LAST-MODIFIED:20260103T225625Z
UID:10000847-1768129200-1768138200@lux-mundi.org
SUMMARY:Spanish Reformed Episcopal Church Church. St Barnabas
DESCRIPTION:
URL:https://lux-mundi.org/event/spanish-reformed-episcopal-church-church-st-barnabas/2026-01-11/
CATEGORIES:Church
END:VEVENT
BEGIN:VEVENT
DTSTART;TZID=Europe/Madrid:20260109T110000
DTEND;TZID=Europe/Madrid:20260109T130000
DTSTAMP:20260424T221847
CREATED:20260103T223352Z
LAST-MODIFIED:20260103T223352Z
UID:10000264-1767956400-1767963600@lux-mundi.org
SUMMARY:Coffee Morning
DESCRIPTION:A Coffee with Everyone\nEvery Friday morning\, the centre opens its doors to share a cup of tea or coffee\, a refreshing drink\, friendly conversation\, and a slice of freshly baked homemade cake. \nIt’s an open invitation to friends\, visitors\, and supporters\, in a relaxed and welcoming atmosphere — the perfect setting to meet others\, make new friends\, and enjoy an easy-going morning together. \nYou can also: \nFind out about the centre’s activities\nPick up English-language newspapers\nBrowse our charity shop\nExplore the library \n  \n🌟 Start your weekend with joy\, flavour\, and good company — we look forward to seeing you!
URL:https://lux-mundi.org/event/coffee-morning/2026-01-09/
LOCATION:Lux Mundi – Torre del Mar\, Avenida Moscatel\, 1 «I»\, C. Casa de la Viña\, Torre del Mar\, Málaga\, 29740\, Spain
CATEGORIES:For everyone
ATTACH;FMTTYPE=image/jpeg:https://lux-mundi.org/wp-content/uploads/2016/04/Easte-Bazaar-Sue-5-e1460458543620.jpeg
END:VEVENT
BEGIN:VEVENT
DTSTART;VALUE=DATE:20260108
DTEND;VALUE=DATE:20260109
DTSTAMP:20260424T221847
CREATED:20260103T220945Z
LAST-MODIFIED:20260103T220945Z
UID:10000001-1767830400-1767916799@lux-mundi.org
SUMMARY:Gibraltar
DESCRIPTION:Trip to Gibraltar . Thursday\, January 8th\, 2026.\nA day at the January sales!\n(Min.30 people needed) \nCost:\n25 eur\nor\n22 eur – if Friends of Lux Mundi \n Pickup times:\n– Algarrobo 07:45\n– Caleta 07:50\n– Torre del Mar 08:00 \nLeave Gibraltar – 16:00 \nIn case of cancellation 48 hours before the trip.\nThe cost is non refundable.
URL:https://lux-mundi.org/event/gibraltar/
CATEGORIES:Day tours
ATTACH;FMTTYPE=image/jpeg:https://lux-mundi.org/wp-content/uploads/2026/01/gibraltar.jpg
END:VEVENT
BEGIN:VEVENT
DTSTART;TZID=Europe/Madrid:20260107T110000
DTEND;TZID=Europe/Madrid:20260107T130000
DTSTAMP:20260424T221847
CREATED:20260103T222511Z
LAST-MODIFIED:20260103T222909Z
UID:10000003-1767783600-1767790800@lux-mundi.org
SUMMARY:Creative Group: Art and Friendship
DESCRIPTION:Every Wednesday\, a group of people meet to paint\, knit\, and create in an atmosphere full of joy and companionship. Whether you enjoy oil painting\, watercolours\, pen and ink\, crafts\, or simply sharing a pleasant time together\, this space is for you. \nThere is no teacher and no strict rules — only the desire to enjoy\, learn from one another\, and let creativity flow in good company. \nBring your materials\, your talent (or your eagerness to discover it)\, and join this warm\, creative community.
URL:https://lux-mundi.org/event/creative-group-art-and-friendship/2026-01-07/
LOCATION:Lux Mundi – Torre del Mar\, Avenida Moscatel\, 1 «I»\, C. Casa de la Viña\, Torre del Mar\, Málaga\, 29740\, Spain
CATEGORIES:Workshop
ATTACH;FMTTYPE=image/jpeg:https://lux-mundi.org/wp-content/uploads/2025/11/artworks2.jpg
END:VEVENT
BEGIN:VEVENT
DTSTART;TZID=Europe/Madrid:20260104T110000
DTEND;TZID=Europe/Madrid:20260104T133000
DTSTAMP:20260424T221847
CREATED:20260103T225625Z
LAST-MODIFIED:20260103T225625Z
UID:10000846-1767524400-1767533400@lux-mundi.org
SUMMARY:Spanish Reformed Episcopal Church Church. St Barnabas
DESCRIPTION:
URL:https://lux-mundi.org/event/spanish-reformed-episcopal-church-church-st-barnabas/2026-01-04/
CATEGORIES:Church
END:VEVENT
END:VCALENDAR