BEGIN:VCALENDAR
VERSION:2.0
PRODID:-//Lux Mundi - ECPv6.15.16//NONSGML v1.0//EN
CALSCALE:GREGORIAN
METHOD:PUBLISH
X-WR-CALNAME:Lux Mundi
X-ORIGINAL-URL:https://lux-mundi.org
X-WR-CALDESC:Events for Lux Mundi
REFRESH-INTERVAL;VALUE=DURATION:PT1H
X-Robots-Tag:noindex
X-PUBLISHED-TTL:PT1H
BEGIN:VTIMEZONE
TZID:Europe/Madrid
BEGIN:DAYLIGHT
TZOFFSETFROM:+0100
TZOFFSETTO:+0200
TZNAME:CEST
DTSTART:20250330T010000
END:DAYLIGHT
BEGIN:STANDARD
TZOFFSETFROM:+0200
TZOFFSETTO:+0100
TZNAME:CET
DTSTART:20251026T010000
END:STANDARD
BEGIN:DAYLIGHT
TZOFFSETFROM:+0100
TZOFFSETTO:+0200
TZNAME:CEST
DTSTART:20260329T010000
END:DAYLIGHT
BEGIN:STANDARD
TZOFFSETFROM:+0200
TZOFFSETTO:+0100
TZNAME:CET
DTSTART:20261025T010000
END:STANDARD
BEGIN:DAYLIGHT
TZOFFSETFROM:+0100
TZOFFSETTO:+0200
TZNAME:CEST
DTSTART:20270328T010000
END:DAYLIGHT
BEGIN:STANDARD
TZOFFSETFROM:+0200
TZOFFSETTO:+0100
TZNAME:CET
DTSTART:20271031T010000
END:STANDARD
END:VTIMEZONE
BEGIN:VEVENT
DTSTART;TZID=Europe/Madrid:20260213T110000
DTEND;TZID=Europe/Madrid:20260213T130000
DTSTAMP:20260422T105903
CREATED:20260103T223352Z
LAST-MODIFIED:20260103T223352Z
UID:10000269-1770980400-1770987600@lux-mundi.org
SUMMARY:Coffee Morning
DESCRIPTION:A Coffee with Everyone\nEvery Friday morning\, the centre opens its doors to share a cup of tea or coffee\, a refreshing drink\, friendly conversation\, and a slice of freshly baked homemade cake. \nIt’s an open invitation to friends\, visitors\, and supporters\, in a relaxed and welcoming atmosphere — the perfect setting to meet others\, make new friends\, and enjoy an easy-going morning together. \nYou can also: \nFind out about the centre’s activities\nPick up English-language newspapers\nBrowse our charity shop\nExplore the library \n  \n🌟 Start your weekend with joy\, flavour\, and good company — we look forward to seeing you!
URL:https://lux-mundi.org/event/coffee-morning/2026-02-13/
LOCATION:Lux Mundi – Torre del Mar\, Avenida Moscatel\, 1 «I»\, C. Casa de la Viña\, Torre del Mar\, Málaga\, 29740\, Spain
CATEGORIES:For everyone
ATTACH;FMTTYPE=image/jpeg:https://lux-mundi.org/wp-content/uploads/2016/04/Easte-Bazaar-Sue-5-e1460458543620.jpeg
END:VEVENT
BEGIN:VEVENT
DTSTART;TZID=Europe/Madrid:20260211T110000
DTEND;TZID=Europe/Madrid:20260211T130000
DTSTAMP:20260422T105903
CREATED:20260103T222511Z
LAST-MODIFIED:20260103T222909Z
UID:10000008-1770807600-1770814800@lux-mundi.org
SUMMARY:Creative Group: Art and Friendship
DESCRIPTION:Every Wednesday\, a group of people meet to paint\, knit\, and create in an atmosphere full of joy and companionship. Whether you enjoy oil painting\, watercolours\, pen and ink\, crafts\, or simply sharing a pleasant time together\, this space is for you. \nThere is no teacher and no strict rules — only the desire to enjoy\, learn from one another\, and let creativity flow in good company. \nBring your materials\, your talent (or your eagerness to discover it)\, and join this warm\, creative community.
URL:https://lux-mundi.org/event/creative-group-art-and-friendship/2026-02-11/
LOCATION:Lux Mundi – Torre del Mar\, Avenida Moscatel\, 1 «I»\, C. Casa de la Viña\, Torre del Mar\, Málaga\, 29740\, Spain
CATEGORIES:Workshop
ATTACH;FMTTYPE=image/jpeg:https://lux-mundi.org/wp-content/uploads/2025/11/artworks2.jpg
END:VEVENT
BEGIN:VEVENT
DTSTART;TZID=Europe/Madrid:20260208T110000
DTEND;TZID=Europe/Madrid:20260208T133000
DTSTAMP:20260422T105903
CREATED:20260103T225625Z
LAST-MODIFIED:20260103T225625Z
UID:10000851-1770548400-1770557400@lux-mundi.org
SUMMARY:Spanish Reformed Episcopal Church Church. St Barnabas
DESCRIPTION:
URL:https://lux-mundi.org/event/spanish-reformed-episcopal-church-church-st-barnabas/2026-02-08/
CATEGORIES:Church
END:VEVENT
BEGIN:VEVENT
DTSTART;TZID=Europe/Madrid:20260207T160000
DTEND;TZID=Europe/Madrid:20260207T173000
DTSTAMP:20260422T105903
CREATED:20260103T225319Z
LAST-MODIFIED:20260109T230826Z
UID:10000590-1770480000-1770485400@lux-mundi.org
SUMMARY:Roman Catholic Mass in English
DESCRIPTION:Please contact the centre for confirmation.
URL:https://lux-mundi.org/event/roman-catholic-mass-in-english/2026-02-07/
CATEGORIES:Mass
END:VEVENT
BEGIN:VEVENT
DTSTART;TZID=Europe/Madrid:20260206T110000
DTEND;TZID=Europe/Madrid:20260206T130000
DTSTAMP:20260422T105903
CREATED:20260103T223352Z
LAST-MODIFIED:20260103T223352Z
UID:10000268-1770375600-1770382800@lux-mundi.org
SUMMARY:Coffee Morning
DESCRIPTION:A Coffee with Everyone\nEvery Friday morning\, the centre opens its doors to share a cup of tea or coffee\, a refreshing drink\, friendly conversation\, and a slice of freshly baked homemade cake. \nIt’s an open invitation to friends\, visitors\, and supporters\, in a relaxed and welcoming atmosphere — the perfect setting to meet others\, make new friends\, and enjoy an easy-going morning together. \nYou can also: \nFind out about the centre’s activities\nPick up English-language newspapers\nBrowse our charity shop\nExplore the library \n  \n🌟 Start your weekend with joy\, flavour\, and good company — we look forward to seeing you!
URL:https://lux-mundi.org/event/coffee-morning/2026-02-06/
LOCATION:Lux Mundi – Torre del Mar\, Avenida Moscatel\, 1 «I»\, C. Casa de la Viña\, Torre del Mar\, Málaga\, 29740\, Spain
CATEGORIES:For everyone
ATTACH;FMTTYPE=image/jpeg:https://lux-mundi.org/wp-content/uploads/2016/04/Easte-Bazaar-Sue-5-e1460458543620.jpeg
END:VEVENT
BEGIN:VEVENT
DTSTART;TZID=Europe/Madrid:20260204T110000
DTEND;TZID=Europe/Madrid:20260204T130000
DTSTAMP:20260422T105903
CREATED:20260103T222511Z
LAST-MODIFIED:20260103T222909Z
UID:10000007-1770202800-1770210000@lux-mundi.org
SUMMARY:Creative Group: Art and Friendship
DESCRIPTION:Every Wednesday\, a group of people meet to paint\, knit\, and create in an atmosphere full of joy and companionship. Whether you enjoy oil painting\, watercolours\, pen and ink\, crafts\, or simply sharing a pleasant time together\, this space is for you. \nThere is no teacher and no strict rules — only the desire to enjoy\, learn from one another\, and let creativity flow in good company. \nBring your materials\, your talent (or your eagerness to discover it)\, and join this warm\, creative community.
URL:https://lux-mundi.org/event/creative-group-art-and-friendship/2026-02-04/
LOCATION:Lux Mundi – Torre del Mar\, Avenida Moscatel\, 1 «I»\, C. Casa de la Viña\, Torre del Mar\, Málaga\, 29740\, Spain
CATEGORIES:Workshop
ATTACH;FMTTYPE=image/jpeg:https://lux-mundi.org/wp-content/uploads/2025/11/artworks2.jpg
END:VEVENT
BEGIN:VEVENT
DTSTART;TZID=Europe/Madrid:20260201T110000
DTEND;TZID=Europe/Madrid:20260201T133000
DTSTAMP:20260422T105903
CREATED:20260103T225625Z
LAST-MODIFIED:20260103T225625Z
UID:10000850-1769943600-1769952600@lux-mundi.org
SUMMARY:Spanish Reformed Episcopal Church Church. St Barnabas
DESCRIPTION:
URL:https://lux-mundi.org/event/spanish-reformed-episcopal-church-church-st-barnabas/2026-02-01/
CATEGORIES:Church
END:VEVENT
BEGIN:VEVENT
DTSTART;TZID=Europe/Madrid:20260131T160000
DTEND;TZID=Europe/Madrid:20260131T173000
DTSTAMP:20260422T105903
CREATED:20260103T225319Z
LAST-MODIFIED:20260109T230826Z
UID:10000589-1769875200-1769880600@lux-mundi.org
SUMMARY:Roman Catholic Mass in English
DESCRIPTION:Please contact the centre for confirmation.
URL:https://lux-mundi.org/event/roman-catholic-mass-in-english/2026-01-31/
CATEGORIES:Mass
END:VEVENT
BEGIN:VEVENT
DTSTART;TZID=Europe/Madrid:20260130T110000
DTEND;TZID=Europe/Madrid:20260130T130000
DTSTAMP:20260422T105903
CREATED:20260103T223352Z
LAST-MODIFIED:20260103T223352Z
UID:10000267-1769770800-1769778000@lux-mundi.org
SUMMARY:Coffee Morning
DESCRIPTION:A Coffee with Everyone\nEvery Friday morning\, the centre opens its doors to share a cup of tea or coffee\, a refreshing drink\, friendly conversation\, and a slice of freshly baked homemade cake. \nIt’s an open invitation to friends\, visitors\, and supporters\, in a relaxed and welcoming atmosphere — the perfect setting to meet others\, make new friends\, and enjoy an easy-going morning together. \nYou can also: \nFind out about the centre’s activities\nPick up English-language newspapers\nBrowse our charity shop\nExplore the library \n  \n🌟 Start your weekend with joy\, flavour\, and good company — we look forward to seeing you!
URL:https://lux-mundi.org/event/coffee-morning/2026-01-30/
LOCATION:Lux Mundi – Torre del Mar\, Avenida Moscatel\, 1 «I»\, C. Casa de la Viña\, Torre del Mar\, Málaga\, 29740\, Spain
CATEGORIES:For everyone
ATTACH;FMTTYPE=image/jpeg:https://lux-mundi.org/wp-content/uploads/2016/04/Easte-Bazaar-Sue-5-e1460458543620.jpeg
END:VEVENT
BEGIN:VEVENT
DTSTART;TZID=Europe/Madrid:20260128T110000
DTEND;TZID=Europe/Madrid:20260128T130000
DTSTAMP:20260422T105903
CREATED:20260103T222511Z
LAST-MODIFIED:20260103T222909Z
UID:10000006-1769598000-1769605200@lux-mundi.org
SUMMARY:Creative Group: Art and Friendship
DESCRIPTION:Every Wednesday\, a group of people meet to paint\, knit\, and create in an atmosphere full of joy and companionship. Whether you enjoy oil painting\, watercolours\, pen and ink\, crafts\, or simply sharing a pleasant time together\, this space is for you. \nThere is no teacher and no strict rules — only the desire to enjoy\, learn from one another\, and let creativity flow in good company. \nBring your materials\, your talent (or your eagerness to discover it)\, and join this warm\, creative community.
URL:https://lux-mundi.org/event/creative-group-art-and-friendship/2026-01-28/
LOCATION:Lux Mundi – Torre del Mar\, Avenida Moscatel\, 1 «I»\, C. Casa de la Viña\, Torre del Mar\, Málaga\, 29740\, Spain
CATEGORIES:Workshop
ATTACH;FMTTYPE=image/jpeg:https://lux-mundi.org/wp-content/uploads/2025/11/artworks2.jpg
END:VEVENT
BEGIN:VEVENT
DTSTART;TZID=Europe/Madrid:20260126T163000
DTEND;TZID=Europe/Madrid:20260126T180000
DTSTAMP:20260422T105903
CREATED:20260103T224428Z
LAST-MODIFIED:20260103T224516Z
UID:10000525-1769445000-1769450400@lux-mundi.org
SUMMARY:Monthly Movies
DESCRIPTION:Come and join us for a monthly afternoon featuring select classic movies from the golden era of Hollywood. \nTICKET  3€\nTIME: 16.30 H \nLocation: Lux Mundi – Avenida Moscatel\,1\,I\nEntrando por Calle Rioja (Torre del Mar) \n 
URL:https://lux-mundi.org/event/monthly-movies/2026-01-26/
LOCATION:Lux Mundi – Torre del Mar\, Avenida Moscatel\, 1 «I»\, C. Casa de la Viña\, Torre del Mar\, Málaga\, 29740\, Spain
CATEGORIES:For everyone
ATTACH;FMTTYPE=image/jpeg:https://lux-mundi.org/wp-content/uploads/2026/01/MovieClassicHollywoodMatinee.jpg
END:VEVENT
BEGIN:VEVENT
DTSTART;TZID=Europe/Madrid:20260125T110000
DTEND;TZID=Europe/Madrid:20260125T133000
DTSTAMP:20260422T105903
CREATED:20260103T225625Z
LAST-MODIFIED:20260103T225625Z
UID:10000849-1769338800-1769347800@lux-mundi.org
SUMMARY:Spanish Reformed Episcopal Church Church. St Barnabas
DESCRIPTION:
URL:https://lux-mundi.org/event/spanish-reformed-episcopal-church-church-st-barnabas/2026-01-25/
CATEGORIES:Church
END:VEVENT
BEGIN:VEVENT
DTSTART;TZID=Europe/Madrid:20260124T160000
DTEND;TZID=Europe/Madrid:20260124T173000
DTSTAMP:20260422T105903
CREATED:20260103T225319Z
LAST-MODIFIED:20260109T230826Z
UID:10000588-1769270400-1769275800@lux-mundi.org
SUMMARY:Roman Catholic Mass in English
DESCRIPTION:Please contact the centre for confirmation.
URL:https://lux-mundi.org/event/roman-catholic-mass-in-english/2026-01-24/
CATEGORIES:Mass
END:VEVENT
BEGIN:VEVENT
DTSTART;TZID=Europe/Madrid:20260123T110000
DTEND;TZID=Europe/Madrid:20260123T130000
DTSTAMP:20260422T105903
CREATED:20260103T223352Z
LAST-MODIFIED:20260103T223352Z
UID:10000266-1769166000-1769173200@lux-mundi.org
SUMMARY:Coffee Morning
DESCRIPTION:A Coffee with Everyone\nEvery Friday morning\, the centre opens its doors to share a cup of tea or coffee\, a refreshing drink\, friendly conversation\, and a slice of freshly baked homemade cake. \nIt’s an open invitation to friends\, visitors\, and supporters\, in a relaxed and welcoming atmosphere — the perfect setting to meet others\, make new friends\, and enjoy an easy-going morning together. \nYou can also: \nFind out about the centre’s activities\nPick up English-language newspapers\nBrowse our charity shop\nExplore the library \n  \n🌟 Start your weekend with joy\, flavour\, and good company — we look forward to seeing you!
URL:https://lux-mundi.org/event/coffee-morning/2026-01-23/
LOCATION:Lux Mundi – Torre del Mar\, Avenida Moscatel\, 1 «I»\, C. Casa de la Viña\, Torre del Mar\, Málaga\, 29740\, Spain
CATEGORIES:For everyone
ATTACH;FMTTYPE=image/jpeg:https://lux-mundi.org/wp-content/uploads/2016/04/Easte-Bazaar-Sue-5-e1460458543620.jpeg
END:VEVENT
BEGIN:VEVENT
DTSTART;TZID=Europe/Madrid:20260121T110000
DTEND;TZID=Europe/Madrid:20260121T130000
DTSTAMP:20260422T105903
CREATED:20260103T222511Z
LAST-MODIFIED:20260103T222909Z
UID:10000005-1768993200-1769000400@lux-mundi.org
SUMMARY:Creative Group: Art and Friendship
DESCRIPTION:Every Wednesday\, a group of people meet to paint\, knit\, and create in an atmosphere full of joy and companionship. Whether you enjoy oil painting\, watercolours\, pen and ink\, crafts\, or simply sharing a pleasant time together\, this space is for you. \nThere is no teacher and no strict rules — only the desire to enjoy\, learn from one another\, and let creativity flow in good company. \nBring your materials\, your talent (or your eagerness to discover it)\, and join this warm\, creative community.
URL:https://lux-mundi.org/event/creative-group-art-and-friendship/2026-01-21/
LOCATION:Lux Mundi – Torre del Mar\, Avenida Moscatel\, 1 «I»\, C. Casa de la Viña\, Torre del Mar\, Málaga\, 29740\, Spain
CATEGORIES:Workshop
ATTACH;FMTTYPE=image/jpeg:https://lux-mundi.org/wp-content/uploads/2025/11/artworks2.jpg
END:VEVENT
BEGIN:VEVENT
DTSTART;TZID=Europe/Madrid:20260118T110000
DTEND;TZID=Europe/Madrid:20260118T133000
DTSTAMP:20260422T105903
CREATED:20260103T225625Z
LAST-MODIFIED:20260103T225625Z
UID:10000848-1768734000-1768743000@lux-mundi.org
SUMMARY:Spanish Reformed Episcopal Church Church. St Barnabas
DESCRIPTION:
URL:https://lux-mundi.org/event/spanish-reformed-episcopal-church-church-st-barnabas/2026-01-18/
CATEGORIES:Church
END:VEVENT
BEGIN:VEVENT
DTSTART;VALUE=DATE:20260118
DTEND;VALUE=DATE:20260126
DTSTAMP:20260422T105903
CREATED:20260103T225828Z
LAST-MODIFIED:20260103T225828Z
UID:10001107-1768694400-1769385599@lux-mundi.org
SUMMARY:Week of prayer for Cristian Unity
DESCRIPTION:
URL:https://lux-mundi.org/event/week-of-prayer-for-cristian-unity/
CATEGORIES:For everyone
END:VEVENT
BEGIN:VEVENT
DTSTART;TZID=Europe/Madrid:20260117T160000
DTEND;TZID=Europe/Madrid:20260117T173000
DTSTAMP:20260422T105903
CREATED:20260103T225319Z
LAST-MODIFIED:20260109T230826Z
UID:10000587-1768665600-1768671000@lux-mundi.org
SUMMARY:Roman Catholic Mass in English
DESCRIPTION:Please contact the centre for confirmation.
URL:https://lux-mundi.org/event/roman-catholic-mass-in-english/2026-01-17/
CATEGORIES:Mass
END:VEVENT
BEGIN:VEVENT
DTSTART;TZID=Europe/Madrid:20260116T110000
DTEND;TZID=Europe/Madrid:20260116T130000
DTSTAMP:20260422T105903
CREATED:20260103T223352Z
LAST-MODIFIED:20260103T223352Z
UID:10000265-1768561200-1768568400@lux-mundi.org
SUMMARY:Coffee Morning
DESCRIPTION:A Coffee with Everyone\nEvery Friday morning\, the centre opens its doors to share a cup of tea or coffee\, a refreshing drink\, friendly conversation\, and a slice of freshly baked homemade cake. \nIt’s an open invitation to friends\, visitors\, and supporters\, in a relaxed and welcoming atmosphere — the perfect setting to meet others\, make new friends\, and enjoy an easy-going morning together. \nYou can also: \nFind out about the centre’s activities\nPick up English-language newspapers\nBrowse our charity shop\nExplore the library \n  \n🌟 Start your weekend with joy\, flavour\, and good company — we look forward to seeing you!
URL:https://lux-mundi.org/event/coffee-morning/2026-01-16/
LOCATION:Lux Mundi – Torre del Mar\, Avenida Moscatel\, 1 «I»\, C. Casa de la Viña\, Torre del Mar\, Málaga\, 29740\, Spain
CATEGORIES:For everyone
ATTACH;FMTTYPE=image/jpeg:https://lux-mundi.org/wp-content/uploads/2016/04/Easte-Bazaar-Sue-5-e1460458543620.jpeg
END:VEVENT
BEGIN:VEVENT
DTSTART;TZID=Europe/Madrid:20260116T110000
DTEND;TZID=Europe/Madrid:20260116T123000
DTSTAMP:20260422T105903
CREATED:20260103T222143Z
LAST-MODIFIED:20260103T224640Z
UID:10000002-1768561200-1768566600@lux-mundi.org
SUMMARY:Memoir Writing Workshop - Introduction
DESCRIPTION:Thinking of writing your life story but not surewhere to start?  \nStarting a memoir can bring up hesitation\, fear\, and that over whelming feeling of “where do I even begin?” If you’d like to explore the idea with gentle guidance\, join Norma for a welcoming introduction to memoir writing. \nThis is not a commitment—just an invitation to contemplate an incredible adventure: focusing on your life\, your memories\, and the process of learning more about yourself. \nWhat to expect(and take with you):\n• A warm\, non-judgemental spacefor your questions\n• Guidance on how to begin and different ways to approach memoir writing\n• Encouragement to explore this writing journey as a meaningful legacy for your family \nWorkshop Mission:\nTo inspire you to preserve personalor family history and cultural heritage by tapping into your past to weave the threads that created the designs and scenes of who you are today. \nAbout Norma K:\nShehas facilitated memoir writing workshops in Hawaii and Spain for the last couple of decades. \nJoin us in person or reserve your place via email: luxmundi@lux-mundi.org\nTORRE DEL MAR
URL:https://lux-mundi.org/event/memoir-writing-workshop-introduction/
LOCATION:Lux Mundi – Torre del Mar\, Avenida Moscatel\, 1 «I»\, C. Casa de la Viña\, Torre del Mar\, Málaga\, 29740\, Spain
CATEGORIES:Workshop
ATTACH;FMTTYPE=image/jpeg:https://lux-mundi.org/wp-content/uploads/2026/01/MemoirWritingWorkshop.jpg
END:VEVENT
BEGIN:VEVENT
DTSTART;TZID=Europe/Madrid:20260114T110000
DTEND;TZID=Europe/Madrid:20260114T130000
DTSTAMP:20260422T105903
CREATED:20260103T222511Z
LAST-MODIFIED:20260103T222909Z
UID:10000004-1768388400-1768395600@lux-mundi.org
SUMMARY:Creative Group: Art and Friendship
DESCRIPTION:Every Wednesday\, a group of people meet to paint\, knit\, and create in an atmosphere full of joy and companionship. Whether you enjoy oil painting\, watercolours\, pen and ink\, crafts\, or simply sharing a pleasant time together\, this space is for you. \nThere is no teacher and no strict rules — only the desire to enjoy\, learn from one another\, and let creativity flow in good company. \nBring your materials\, your talent (or your eagerness to discover it)\, and join this warm\, creative community.
URL:https://lux-mundi.org/event/creative-group-art-and-friendship/2026-01-14/
LOCATION:Lux Mundi – Torre del Mar\, Avenida Moscatel\, 1 «I»\, C. Casa de la Viña\, Torre del Mar\, Málaga\, 29740\, Spain
CATEGORIES:Workshop
ATTACH;FMTTYPE=image/jpeg:https://lux-mundi.org/wp-content/uploads/2025/11/artworks2.jpg
END:VEVENT
BEGIN:VEVENT
DTSTART;TZID=Europe/Madrid:20260111T110000
DTEND;TZID=Europe/Madrid:20260111T133000
DTSTAMP:20260422T105903
CREATED:20260103T225625Z
LAST-MODIFIED:20260103T225625Z
UID:10000847-1768129200-1768138200@lux-mundi.org
SUMMARY:Spanish Reformed Episcopal Church Church. St Barnabas
DESCRIPTION:
URL:https://lux-mundi.org/event/spanish-reformed-episcopal-church-church-st-barnabas/2026-01-11/
CATEGORIES:Church
END:VEVENT
BEGIN:VEVENT
DTSTART;TZID=Europe/Madrid:20260109T110000
DTEND;TZID=Europe/Madrid:20260109T130000
DTSTAMP:20260422T105903
CREATED:20260103T223352Z
LAST-MODIFIED:20260103T223352Z
UID:10000264-1767956400-1767963600@lux-mundi.org
SUMMARY:Coffee Morning
DESCRIPTION:A Coffee with Everyone\nEvery Friday morning\, the centre opens its doors to share a cup of tea or coffee\, a refreshing drink\, friendly conversation\, and a slice of freshly baked homemade cake. \nIt’s an open invitation to friends\, visitors\, and supporters\, in a relaxed and welcoming atmosphere — the perfect setting to meet others\, make new friends\, and enjoy an easy-going morning together. \nYou can also: \nFind out about the centre’s activities\nPick up English-language newspapers\nBrowse our charity shop\nExplore the library \n  \n🌟 Start your weekend with joy\, flavour\, and good company — we look forward to seeing you!
URL:https://lux-mundi.org/event/coffee-morning/2026-01-09/
LOCATION:Lux Mundi – Torre del Mar\, Avenida Moscatel\, 1 «I»\, C. Casa de la Viña\, Torre del Mar\, Málaga\, 29740\, Spain
CATEGORIES:For everyone
ATTACH;FMTTYPE=image/jpeg:https://lux-mundi.org/wp-content/uploads/2016/04/Easte-Bazaar-Sue-5-e1460458543620.jpeg
END:VEVENT
BEGIN:VEVENT
DTSTART;VALUE=DATE:20260108
DTEND;VALUE=DATE:20260109
DTSTAMP:20260422T105903
CREATED:20260103T220945Z
LAST-MODIFIED:20260103T220945Z
UID:10000001-1767830400-1767916799@lux-mundi.org
SUMMARY:Gibraltar
DESCRIPTION:Trip to Gibraltar . Thursday\, January 8th\, 2026.\nA day at the January sales!\n(Min.30 people needed) \nCost:\n25 eur\nor\n22 eur – if Friends of Lux Mundi \n Pickup times:\n– Algarrobo 07:45\n– Caleta 07:50\n– Torre del Mar 08:00 \nLeave Gibraltar – 16:00 \nIn case of cancellation 48 hours before the trip.\nThe cost is non refundable.
URL:https://lux-mundi.org/event/gibraltar/
CATEGORIES:Day tours
ATTACH;FMTTYPE=image/jpeg:https://lux-mundi.org/wp-content/uploads/2026/01/gibraltar.jpg
END:VEVENT
BEGIN:VEVENT
DTSTART;TZID=Europe/Madrid:20260107T110000
DTEND;TZID=Europe/Madrid:20260107T130000
DTSTAMP:20260422T105903
CREATED:20260103T222511Z
LAST-MODIFIED:20260103T222909Z
UID:10000003-1767783600-1767790800@lux-mundi.org
SUMMARY:Creative Group: Art and Friendship
DESCRIPTION:Every Wednesday\, a group of people meet to paint\, knit\, and create in an atmosphere full of joy and companionship. Whether you enjoy oil painting\, watercolours\, pen and ink\, crafts\, or simply sharing a pleasant time together\, this space is for you. \nThere is no teacher and no strict rules — only the desire to enjoy\, learn from one another\, and let creativity flow in good company. \nBring your materials\, your talent (or your eagerness to discover it)\, and join this warm\, creative community.
URL:https://lux-mundi.org/event/creative-group-art-and-friendship/2026-01-07/
LOCATION:Lux Mundi – Torre del Mar\, Avenida Moscatel\, 1 «I»\, C. Casa de la Viña\, Torre del Mar\, Málaga\, 29740\, Spain
CATEGORIES:Workshop
ATTACH;FMTTYPE=image/jpeg:https://lux-mundi.org/wp-content/uploads/2025/11/artworks2.jpg
END:VEVENT
BEGIN:VEVENT
DTSTART;TZID=Europe/Madrid:20260104T110000
DTEND;TZID=Europe/Madrid:20260104T133000
DTSTAMP:20260422T105903
CREATED:20260103T225625Z
LAST-MODIFIED:20260103T225625Z
UID:10000846-1767524400-1767533400@lux-mundi.org
SUMMARY:Spanish Reformed Episcopal Church Church. St Barnabas
DESCRIPTION:
URL:https://lux-mundi.org/event/spanish-reformed-episcopal-church-church-st-barnabas/2026-01-04/
CATEGORIES:Church
END:VEVENT
END:VCALENDAR