BEGIN:VCALENDAR
VERSION:2.0
PRODID:-//Lux Mundi - ECPv6.15.16//NONSGML v1.0//EN
CALSCALE:GREGORIAN
METHOD:PUBLISH
X-ORIGINAL-URL:https://lux-mundi.org
X-WR-CALDESC:Events for Lux Mundi
REFRESH-INTERVAL;VALUE=DURATION:PT1H
X-Robots-Tag:noindex
X-PUBLISHED-TTL:PT1H
BEGIN:VTIMEZONE
TZID:Europe/Madrid
BEGIN:DAYLIGHT
TZOFFSETFROM:+0100
TZOFFSETTO:+0200
TZNAME:CEST
DTSTART:20250330T010000
END:DAYLIGHT
BEGIN:STANDARD
TZOFFSETFROM:+0200
TZOFFSETTO:+0100
TZNAME:CET
DTSTART:20251026T010000
END:STANDARD
BEGIN:DAYLIGHT
TZOFFSETFROM:+0100
TZOFFSETTO:+0200
TZNAME:CEST
DTSTART:20260329T010000
END:DAYLIGHT
BEGIN:STANDARD
TZOFFSETFROM:+0200
TZOFFSETTO:+0100
TZNAME:CET
DTSTART:20261025T010000
END:STANDARD
BEGIN:DAYLIGHT
TZOFFSETFROM:+0100
TZOFFSETTO:+0200
TZNAME:CEST
DTSTART:20270328T010000
END:DAYLIGHT
BEGIN:STANDARD
TZOFFSETFROM:+0200
TZOFFSETTO:+0100
TZNAME:CET
DTSTART:20271031T010000
END:STANDARD
END:VTIMEZONE
BEGIN:VEVENT
DTSTART;TZID=Europe/Madrid:20261007T110000
DTEND;TZID=Europe/Madrid:20261007T130000
DTSTAMP:20260422T081637
CREATED:20260103T222511Z
LAST-MODIFIED:20260103T222909Z
UID:10000042-1791370800-1791378000@lux-mundi.org
SUMMARY:Creative Group: Art and Friendship
DESCRIPTION:Every Wednesday\, a group of people meet to paint\, knit\, and create in an atmosphere full of joy and companionship. Whether you enjoy oil painting\, watercolours\, pen and ink\, crafts\, or simply sharing a pleasant time together\, this space is for you. \nThere is no teacher and no strict rules — only the desire to enjoy\, learn from one another\, and let creativity flow in good company. \nBring your materials\, your talent (or your eagerness to discover it)\, and join this warm\, creative community.
URL:https://lux-mundi.org/event/creative-group-art-and-friendship/2026-10-07/
LOCATION:Lux Mundi – Torre del Mar\, Avenida Moscatel\, 1 «I»\, C. Casa de la Viña\, Torre del Mar\, Málaga\, 29740\, Spain
CATEGORIES:Workshop
ATTACH;FMTTYPE=image/jpeg:https://lux-mundi.org/wp-content/uploads/2025/11/artworks2.jpg
END:VEVENT
BEGIN:VEVENT
DTSTART;TZID=Europe/Madrid:20261009T110000
DTEND;TZID=Europe/Madrid:20261009T130000
DTSTAMP:20260422T081637
CREATED:20260103T223352Z
LAST-MODIFIED:20260103T223352Z
UID:10000303-1791543600-1791550800@lux-mundi.org
SUMMARY:Coffee Morning
DESCRIPTION:A Coffee with Everyone\nEvery Friday morning\, the centre opens its doors to share a cup of tea or coffee\, a refreshing drink\, friendly conversation\, and a slice of freshly baked homemade cake. \nIt’s an open invitation to friends\, visitors\, and supporters\, in a relaxed and welcoming atmosphere — the perfect setting to meet others\, make new friends\, and enjoy an easy-going morning together. \nYou can also: \nFind out about the centre’s activities\nPick up English-language newspapers\nBrowse our charity shop\nExplore the library \n  \n🌟 Start your weekend with joy\, flavour\, and good company — we look forward to seeing you!
URL:https://lux-mundi.org/event/coffee-morning/2026-10-09/
LOCATION:Lux Mundi – Torre del Mar\, Avenida Moscatel\, 1 «I»\, C. Casa de la Viña\, Torre del Mar\, Málaga\, 29740\, Spain
CATEGORIES:For everyone
ATTACH;FMTTYPE=image/jpeg:https://lux-mundi.org/wp-content/uploads/2016/04/Easte-Bazaar-Sue-5-e1460458543620.jpeg
END:VEVENT
BEGIN:VEVENT
DTSTART;TZID=Europe/Madrid:20261010T160000
DTEND;TZID=Europe/Madrid:20261010T173000
DTSTAMP:20260422T081637
CREATED:20260103T225319Z
LAST-MODIFIED:20260109T230826Z
UID:10000625-1791648000-1791653400@lux-mundi.org
SUMMARY:Roman Catholic Mass in English
DESCRIPTION:Please contact the centre for confirmation.
URL:https://lux-mundi.org/event/roman-catholic-mass-in-english/2026-10-10/
CATEGORIES:Mass
END:VEVENT
BEGIN:VEVENT
DTSTART;TZID=Europe/Madrid:20261011T110000
DTEND;TZID=Europe/Madrid:20261011T133000
DTSTAMP:20260422T081637
CREATED:20260103T225625Z
LAST-MODIFIED:20260103T225625Z
UID:10000886-1791716400-1791725400@lux-mundi.org
SUMMARY:Spanish Reformed Episcopal Church Church. St Barnabas
DESCRIPTION:
URL:https://lux-mundi.org/event/spanish-reformed-episcopal-church-church-st-barnabas/2026-10-11/
CATEGORIES:Church
END:VEVENT
BEGIN:VEVENT
DTSTART;TZID=Europe/Madrid:20261014T110000
DTEND;TZID=Europe/Madrid:20261014T130000
DTSTAMP:20260422T081637
CREATED:20260103T222511Z
LAST-MODIFIED:20260103T222909Z
UID:10000043-1791975600-1791982800@lux-mundi.org
SUMMARY:Creative Group: Art and Friendship
DESCRIPTION:Every Wednesday\, a group of people meet to paint\, knit\, and create in an atmosphere full of joy and companionship. Whether you enjoy oil painting\, watercolours\, pen and ink\, crafts\, or simply sharing a pleasant time together\, this space is for you. \nThere is no teacher and no strict rules — only the desire to enjoy\, learn from one another\, and let creativity flow in good company. \nBring your materials\, your talent (or your eagerness to discover it)\, and join this warm\, creative community.
URL:https://lux-mundi.org/event/creative-group-art-and-friendship/2026-10-14/
LOCATION:Lux Mundi – Torre del Mar\, Avenida Moscatel\, 1 «I»\, C. Casa de la Viña\, Torre del Mar\, Málaga\, 29740\, Spain
CATEGORIES:Workshop
ATTACH;FMTTYPE=image/jpeg:https://lux-mundi.org/wp-content/uploads/2025/11/artworks2.jpg
END:VEVENT
BEGIN:VEVENT
DTSTART;TZID=Europe/Madrid:20261016T110000
DTEND;TZID=Europe/Madrid:20261016T130000
DTSTAMP:20260422T081637
CREATED:20260103T223352Z
LAST-MODIFIED:20260103T223352Z
UID:10000304-1792148400-1792155600@lux-mundi.org
SUMMARY:Coffee Morning
DESCRIPTION:A Coffee with Everyone\nEvery Friday morning\, the centre opens its doors to share a cup of tea or coffee\, a refreshing drink\, friendly conversation\, and a slice of freshly baked homemade cake. \nIt’s an open invitation to friends\, visitors\, and supporters\, in a relaxed and welcoming atmosphere — the perfect setting to meet others\, make new friends\, and enjoy an easy-going morning together. \nYou can also: \nFind out about the centre’s activities\nPick up English-language newspapers\nBrowse our charity shop\nExplore the library \n  \n🌟 Start your weekend with joy\, flavour\, and good company — we look forward to seeing you!
URL:https://lux-mundi.org/event/coffee-morning/2026-10-16/
LOCATION:Lux Mundi – Torre del Mar\, Avenida Moscatel\, 1 «I»\, C. Casa de la Viña\, Torre del Mar\, Málaga\, 29740\, Spain
CATEGORIES:For everyone
ATTACH;FMTTYPE=image/jpeg:https://lux-mundi.org/wp-content/uploads/2016/04/Easte-Bazaar-Sue-5-e1460458543620.jpeg
END:VEVENT
BEGIN:VEVENT
DTSTART;TZID=Europe/Madrid:20261017T160000
DTEND;TZID=Europe/Madrid:20261017T173000
DTSTAMP:20260422T081637
CREATED:20260103T225319Z
LAST-MODIFIED:20260109T230826Z
UID:10000626-1792252800-1792258200@lux-mundi.org
SUMMARY:Roman Catholic Mass in English
DESCRIPTION:Please contact the centre for confirmation.
URL:https://lux-mundi.org/event/roman-catholic-mass-in-english/2026-10-17/
CATEGORIES:Mass
END:VEVENT
BEGIN:VEVENT
DTSTART;TZID=Europe/Madrid:20261018T110000
DTEND;TZID=Europe/Madrid:20261018T133000
DTSTAMP:20260422T081637
CREATED:20260103T225625Z
LAST-MODIFIED:20260103T225625Z
UID:10000887-1792321200-1792330200@lux-mundi.org
SUMMARY:Spanish Reformed Episcopal Church Church. St Barnabas
DESCRIPTION:
URL:https://lux-mundi.org/event/spanish-reformed-episcopal-church-church-st-barnabas/2026-10-18/
CATEGORIES:Church
END:VEVENT
BEGIN:VEVENT
DTSTART;TZID=Europe/Madrid:20261021T110000
DTEND;TZID=Europe/Madrid:20261021T130000
DTSTAMP:20260422T081637
CREATED:20260103T222511Z
LAST-MODIFIED:20260103T222909Z
UID:10000044-1792580400-1792587600@lux-mundi.org
SUMMARY:Creative Group: Art and Friendship
DESCRIPTION:Every Wednesday\, a group of people meet to paint\, knit\, and create in an atmosphere full of joy and companionship. Whether you enjoy oil painting\, watercolours\, pen and ink\, crafts\, or simply sharing a pleasant time together\, this space is for you. \nThere is no teacher and no strict rules — only the desire to enjoy\, learn from one another\, and let creativity flow in good company. \nBring your materials\, your talent (or your eagerness to discover it)\, and join this warm\, creative community.
URL:https://lux-mundi.org/event/creative-group-art-and-friendship/2026-10-21/
LOCATION:Lux Mundi – Torre del Mar\, Avenida Moscatel\, 1 «I»\, C. Casa de la Viña\, Torre del Mar\, Málaga\, 29740\, Spain
CATEGORIES:Workshop
ATTACH;FMTTYPE=image/jpeg:https://lux-mundi.org/wp-content/uploads/2025/11/artworks2.jpg
END:VEVENT
BEGIN:VEVENT
DTSTART;TZID=Europe/Madrid:20261023T110000
DTEND;TZID=Europe/Madrid:20261023T130000
DTSTAMP:20260422T081637
CREATED:20260103T223352Z
LAST-MODIFIED:20260103T223352Z
UID:10000305-1792753200-1792760400@lux-mundi.org
SUMMARY:Coffee Morning
DESCRIPTION:A Coffee with Everyone\nEvery Friday morning\, the centre opens its doors to share a cup of tea or coffee\, a refreshing drink\, friendly conversation\, and a slice of freshly baked homemade cake. \nIt’s an open invitation to friends\, visitors\, and supporters\, in a relaxed and welcoming atmosphere — the perfect setting to meet others\, make new friends\, and enjoy an easy-going morning together. \nYou can also: \nFind out about the centre’s activities\nPick up English-language newspapers\nBrowse our charity shop\nExplore the library \n  \n🌟 Start your weekend with joy\, flavour\, and good company — we look forward to seeing you!
URL:https://lux-mundi.org/event/coffee-morning/2026-10-23/
LOCATION:Lux Mundi – Torre del Mar\, Avenida Moscatel\, 1 «I»\, C. Casa de la Viña\, Torre del Mar\, Málaga\, 29740\, Spain
CATEGORIES:For everyone
ATTACH;FMTTYPE=image/jpeg:https://lux-mundi.org/wp-content/uploads/2016/04/Easte-Bazaar-Sue-5-e1460458543620.jpeg
END:VEVENT
BEGIN:VEVENT
DTSTART;TZID=Europe/Madrid:20261024T160000
DTEND;TZID=Europe/Madrid:20261024T173000
DTSTAMP:20260422T081637
CREATED:20260103T225319Z
LAST-MODIFIED:20260109T230826Z
UID:10000627-1792857600-1792863000@lux-mundi.org
SUMMARY:Roman Catholic Mass in English
DESCRIPTION:Please contact the centre for confirmation.
URL:https://lux-mundi.org/event/roman-catholic-mass-in-english/2026-10-24/
CATEGORIES:Mass
END:VEVENT
BEGIN:VEVENT
DTSTART;TZID=Europe/Madrid:20261025T110000
DTEND;TZID=Europe/Madrid:20261025T133000
DTSTAMP:20260422T081637
CREATED:20260103T225625Z
LAST-MODIFIED:20260103T225625Z
UID:10000888-1792926000-1792935000@lux-mundi.org
SUMMARY:Spanish Reformed Episcopal Church Church. St Barnabas
DESCRIPTION:
URL:https://lux-mundi.org/event/spanish-reformed-episcopal-church-church-st-barnabas/2026-10-25/
CATEGORIES:Church
END:VEVENT
BEGIN:VEVENT
DTSTART;TZID=Europe/Madrid:20261026T163000
DTEND;TZID=Europe/Madrid:20261026T180000
DTSTAMP:20260422T081637
CREATED:20260103T224428Z
LAST-MODIFIED:20260103T224516Z
UID:10000534-1793032200-1793037600@lux-mundi.org
SUMMARY:Monthly Movies
DESCRIPTION:Come and join us for a monthly afternoon featuring select classic movies from the golden era of Hollywood. \nTICKET  3€\nTIME: 16.30 H \nLocation: Lux Mundi – Avenida Moscatel\,1\,I\nEntrando por Calle Rioja (Torre del Mar) \n 
URL:https://lux-mundi.org/event/monthly-movies/2026-10-26/
LOCATION:Lux Mundi – Torre del Mar\, Avenida Moscatel\, 1 «I»\, C. Casa de la Viña\, Torre del Mar\, Málaga\, 29740\, Spain
CATEGORIES:For everyone
ATTACH;FMTTYPE=image/jpeg:https://lux-mundi.org/wp-content/uploads/2026/01/MovieClassicHollywoodMatinee.jpg
END:VEVENT
BEGIN:VEVENT
DTSTART;TZID=Europe/Madrid:20261028T110000
DTEND;TZID=Europe/Madrid:20261028T130000
DTSTAMP:20260422T081637
CREATED:20260103T222511Z
LAST-MODIFIED:20260103T222909Z
UID:10000045-1793185200-1793192400@lux-mundi.org
SUMMARY:Creative Group: Art and Friendship
DESCRIPTION:Every Wednesday\, a group of people meet to paint\, knit\, and create in an atmosphere full of joy and companionship. Whether you enjoy oil painting\, watercolours\, pen and ink\, crafts\, or simply sharing a pleasant time together\, this space is for you. \nThere is no teacher and no strict rules — only the desire to enjoy\, learn from one another\, and let creativity flow in good company. \nBring your materials\, your talent (or your eagerness to discover it)\, and join this warm\, creative community.
URL:https://lux-mundi.org/event/creative-group-art-and-friendship/2026-10-28/
LOCATION:Lux Mundi – Torre del Mar\, Avenida Moscatel\, 1 «I»\, C. Casa de la Viña\, Torre del Mar\, Málaga\, 29740\, Spain
CATEGORIES:Workshop
ATTACH;FMTTYPE=image/jpeg:https://lux-mundi.org/wp-content/uploads/2025/11/artworks2.jpg
END:VEVENT
BEGIN:VEVENT
DTSTART;TZID=Europe/Madrid:20261030T110000
DTEND;TZID=Europe/Madrid:20261030T130000
DTSTAMP:20260422T081637
CREATED:20260103T223352Z
LAST-MODIFIED:20260103T223352Z
UID:10000306-1793358000-1793365200@lux-mundi.org
SUMMARY:Coffee Morning
DESCRIPTION:A Coffee with Everyone\nEvery Friday morning\, the centre opens its doors to share a cup of tea or coffee\, a refreshing drink\, friendly conversation\, and a slice of freshly baked homemade cake. \nIt’s an open invitation to friends\, visitors\, and supporters\, in a relaxed and welcoming atmosphere — the perfect setting to meet others\, make new friends\, and enjoy an easy-going morning together. \nYou can also: \nFind out about the centre’s activities\nPick up English-language newspapers\nBrowse our charity shop\nExplore the library \n  \n🌟 Start your weekend with joy\, flavour\, and good company — we look forward to seeing you!
URL:https://lux-mundi.org/event/coffee-morning/2026-10-30/
LOCATION:Lux Mundi – Torre del Mar\, Avenida Moscatel\, 1 «I»\, C. Casa de la Viña\, Torre del Mar\, Málaga\, 29740\, Spain
CATEGORIES:For everyone
ATTACH;FMTTYPE=image/jpeg:https://lux-mundi.org/wp-content/uploads/2016/04/Easte-Bazaar-Sue-5-e1460458543620.jpeg
END:VEVENT
BEGIN:VEVENT
DTSTART;TZID=Europe/Madrid:20261031T160000
DTEND;TZID=Europe/Madrid:20261031T173000
DTSTAMP:20260422T081637
CREATED:20260103T225319Z
LAST-MODIFIED:20260109T230826Z
UID:10000628-1793462400-1793467800@lux-mundi.org
SUMMARY:Roman Catholic Mass in English
DESCRIPTION:Please contact the centre for confirmation.
URL:https://lux-mundi.org/event/roman-catholic-mass-in-english/2026-10-31/
CATEGORIES:Mass
END:VEVENT
BEGIN:VEVENT
DTSTART;TZID=Europe/Madrid:20261101T110000
DTEND;TZID=Europe/Madrid:20261101T133000
DTSTAMP:20260422T081637
CREATED:20260103T225625Z
LAST-MODIFIED:20260103T225625Z
UID:10000889-1793530800-1793539800@lux-mundi.org
SUMMARY:Spanish Reformed Episcopal Church Church. St Barnabas
DESCRIPTION:
URL:https://lux-mundi.org/event/spanish-reformed-episcopal-church-church-st-barnabas/2026-11-01/
CATEGORIES:Church
END:VEVENT
BEGIN:VEVENT
DTSTART;TZID=Europe/Madrid:20261104T110000
DTEND;TZID=Europe/Madrid:20261104T130000
DTSTAMP:20260422T081637
CREATED:20260103T222511Z
LAST-MODIFIED:20260103T222909Z
UID:10000046-1793790000-1793797200@lux-mundi.org
SUMMARY:Creative Group: Art and Friendship
DESCRIPTION:Every Wednesday\, a group of people meet to paint\, knit\, and create in an atmosphere full of joy and companionship. Whether you enjoy oil painting\, watercolours\, pen and ink\, crafts\, or simply sharing a pleasant time together\, this space is for you. \nThere is no teacher and no strict rules — only the desire to enjoy\, learn from one another\, and let creativity flow in good company. \nBring your materials\, your talent (or your eagerness to discover it)\, and join this warm\, creative community.
URL:https://lux-mundi.org/event/creative-group-art-and-friendship/2026-11-04/
LOCATION:Lux Mundi – Torre del Mar\, Avenida Moscatel\, 1 «I»\, C. Casa de la Viña\, Torre del Mar\, Málaga\, 29740\, Spain
CATEGORIES:Workshop
ATTACH;FMTTYPE=image/jpeg:https://lux-mundi.org/wp-content/uploads/2025/11/artworks2.jpg
END:VEVENT
BEGIN:VEVENT
DTSTART;TZID=Europe/Madrid:20261106T110000
DTEND;TZID=Europe/Madrid:20261106T130000
DTSTAMP:20260422T081637
CREATED:20260103T223352Z
LAST-MODIFIED:20260103T223352Z
UID:10000307-1793962800-1793970000@lux-mundi.org
SUMMARY:Coffee Morning
DESCRIPTION:A Coffee with Everyone\nEvery Friday morning\, the centre opens its doors to share a cup of tea or coffee\, a refreshing drink\, friendly conversation\, and a slice of freshly baked homemade cake. \nIt’s an open invitation to friends\, visitors\, and supporters\, in a relaxed and welcoming atmosphere — the perfect setting to meet others\, make new friends\, and enjoy an easy-going morning together. \nYou can also: \nFind out about the centre’s activities\nPick up English-language newspapers\nBrowse our charity shop\nExplore the library \n  \n🌟 Start your weekend with joy\, flavour\, and good company — we look forward to seeing you!
URL:https://lux-mundi.org/event/coffee-morning/2026-11-06/
LOCATION:Lux Mundi – Torre del Mar\, Avenida Moscatel\, 1 «I»\, C. Casa de la Viña\, Torre del Mar\, Málaga\, 29740\, Spain
CATEGORIES:For everyone
ATTACH;FMTTYPE=image/jpeg:https://lux-mundi.org/wp-content/uploads/2016/04/Easte-Bazaar-Sue-5-e1460458543620.jpeg
END:VEVENT
BEGIN:VEVENT
DTSTART;TZID=Europe/Madrid:20261107T160000
DTEND;TZID=Europe/Madrid:20261107T173000
DTSTAMP:20260422T081637
CREATED:20260103T225319Z
LAST-MODIFIED:20260109T230826Z
UID:10000629-1794067200-1794072600@lux-mundi.org
SUMMARY:Roman Catholic Mass in English
DESCRIPTION:Please contact the centre for confirmation.
URL:https://lux-mundi.org/event/roman-catholic-mass-in-english/2026-11-07/
CATEGORIES:Mass
END:VEVENT
BEGIN:VEVENT
DTSTART;TZID=Europe/Madrid:20261108T110000
DTEND;TZID=Europe/Madrid:20261108T133000
DTSTAMP:20260422T081637
CREATED:20260103T225625Z
LAST-MODIFIED:20260103T225625Z
UID:10000890-1794135600-1794144600@lux-mundi.org
SUMMARY:Spanish Reformed Episcopal Church Church. St Barnabas
DESCRIPTION:
URL:https://lux-mundi.org/event/spanish-reformed-episcopal-church-church-st-barnabas/2026-11-08/
CATEGORIES:Church
END:VEVENT
BEGIN:VEVENT
DTSTART;TZID=Europe/Madrid:20261111T110000
DTEND;TZID=Europe/Madrid:20261111T130000
DTSTAMP:20260422T081637
CREATED:20260103T222511Z
LAST-MODIFIED:20260103T222909Z
UID:10000047-1794394800-1794402000@lux-mundi.org
SUMMARY:Creative Group: Art and Friendship
DESCRIPTION:Every Wednesday\, a group of people meet to paint\, knit\, and create in an atmosphere full of joy and companionship. Whether you enjoy oil painting\, watercolours\, pen and ink\, crafts\, or simply sharing a pleasant time together\, this space is for you. \nThere is no teacher and no strict rules — only the desire to enjoy\, learn from one another\, and let creativity flow in good company. \nBring your materials\, your talent (or your eagerness to discover it)\, and join this warm\, creative community.
URL:https://lux-mundi.org/event/creative-group-art-and-friendship/2026-11-11/
LOCATION:Lux Mundi – Torre del Mar\, Avenida Moscatel\, 1 «I»\, C. Casa de la Viña\, Torre del Mar\, Málaga\, 29740\, Spain
CATEGORIES:Workshop
ATTACH;FMTTYPE=image/jpeg:https://lux-mundi.org/wp-content/uploads/2025/11/artworks2.jpg
END:VEVENT
BEGIN:VEVENT
DTSTART;TZID=Europe/Madrid:20261113T110000
DTEND;TZID=Europe/Madrid:20261113T130000
DTSTAMP:20260422T081637
CREATED:20260103T223352Z
LAST-MODIFIED:20260103T223352Z
UID:10000308-1794567600-1794574800@lux-mundi.org
SUMMARY:Coffee Morning
DESCRIPTION:A Coffee with Everyone\nEvery Friday morning\, the centre opens its doors to share a cup of tea or coffee\, a refreshing drink\, friendly conversation\, and a slice of freshly baked homemade cake. \nIt’s an open invitation to friends\, visitors\, and supporters\, in a relaxed and welcoming atmosphere — the perfect setting to meet others\, make new friends\, and enjoy an easy-going morning together. \nYou can also: \nFind out about the centre’s activities\nPick up English-language newspapers\nBrowse our charity shop\nExplore the library \n  \n🌟 Start your weekend with joy\, flavour\, and good company — we look forward to seeing you!
URL:https://lux-mundi.org/event/coffee-morning/2026-11-13/
LOCATION:Lux Mundi – Torre del Mar\, Avenida Moscatel\, 1 «I»\, C. Casa de la Viña\, Torre del Mar\, Málaga\, 29740\, Spain
CATEGORIES:For everyone
ATTACH;FMTTYPE=image/jpeg:https://lux-mundi.org/wp-content/uploads/2016/04/Easte-Bazaar-Sue-5-e1460458543620.jpeg
END:VEVENT
BEGIN:VEVENT
DTSTART;TZID=Europe/Madrid:20261114T160000
DTEND;TZID=Europe/Madrid:20261114T173000
DTSTAMP:20260422T081637
CREATED:20260103T225319Z
LAST-MODIFIED:20260109T230826Z
UID:10000630-1794672000-1794677400@lux-mundi.org
SUMMARY:Roman Catholic Mass in English
DESCRIPTION:Please contact the centre for confirmation.
URL:https://lux-mundi.org/event/roman-catholic-mass-in-english/2026-11-14/
CATEGORIES:Mass
END:VEVENT
BEGIN:VEVENT
DTSTART;TZID=Europe/Madrid:20261115T110000
DTEND;TZID=Europe/Madrid:20261115T133000
DTSTAMP:20260422T081637
CREATED:20260103T225625Z
LAST-MODIFIED:20260103T225625Z
UID:10000891-1794740400-1794749400@lux-mundi.org
SUMMARY:Spanish Reformed Episcopal Church Church. St Barnabas
DESCRIPTION:
URL:https://lux-mundi.org/event/spanish-reformed-episcopal-church-church-st-barnabas/2026-11-15/
CATEGORIES:Church
END:VEVENT
BEGIN:VEVENT
DTSTART;TZID=Europe/Madrid:20261118T110000
DTEND;TZID=Europe/Madrid:20261118T130000
DTSTAMP:20260422T081637
CREATED:20260103T222511Z
LAST-MODIFIED:20260103T222909Z
UID:10000048-1794999600-1795006800@lux-mundi.org
SUMMARY:Creative Group: Art and Friendship
DESCRIPTION:Every Wednesday\, a group of people meet to paint\, knit\, and create in an atmosphere full of joy and companionship. Whether you enjoy oil painting\, watercolours\, pen and ink\, crafts\, or simply sharing a pleasant time together\, this space is for you. \nThere is no teacher and no strict rules — only the desire to enjoy\, learn from one another\, and let creativity flow in good company. \nBring your materials\, your talent (or your eagerness to discover it)\, and join this warm\, creative community.
URL:https://lux-mundi.org/event/creative-group-art-and-friendship/2026-11-18/
LOCATION:Lux Mundi – Torre del Mar\, Avenida Moscatel\, 1 «I»\, C. Casa de la Viña\, Torre del Mar\, Málaga\, 29740\, Spain
CATEGORIES:Workshop
ATTACH;FMTTYPE=image/jpeg:https://lux-mundi.org/wp-content/uploads/2025/11/artworks2.jpg
END:VEVENT
BEGIN:VEVENT
DTSTART;TZID=Europe/Madrid:20261120T110000
DTEND;TZID=Europe/Madrid:20261120T130000
DTSTAMP:20260422T081637
CREATED:20260103T223352Z
LAST-MODIFIED:20260103T223352Z
UID:10000309-1795172400-1795179600@lux-mundi.org
SUMMARY:Coffee Morning
DESCRIPTION:A Coffee with Everyone\nEvery Friday morning\, the centre opens its doors to share a cup of tea or coffee\, a refreshing drink\, friendly conversation\, and a slice of freshly baked homemade cake. \nIt’s an open invitation to friends\, visitors\, and supporters\, in a relaxed and welcoming atmosphere — the perfect setting to meet others\, make new friends\, and enjoy an easy-going morning together. \nYou can also: \nFind out about the centre’s activities\nPick up English-language newspapers\nBrowse our charity shop\nExplore the library \n  \n🌟 Start your weekend with joy\, flavour\, and good company — we look forward to seeing you!
URL:https://lux-mundi.org/event/coffee-morning/2026-11-20/
LOCATION:Lux Mundi – Torre del Mar\, Avenida Moscatel\, 1 «I»\, C. Casa de la Viña\, Torre del Mar\, Málaga\, 29740\, Spain
CATEGORIES:For everyone
ATTACH;FMTTYPE=image/jpeg:https://lux-mundi.org/wp-content/uploads/2016/04/Easte-Bazaar-Sue-5-e1460458543620.jpeg
END:VEVENT
BEGIN:VEVENT
DTSTART;TZID=Europe/Madrid:20261121T160000
DTEND;TZID=Europe/Madrid:20261121T173000
DTSTAMP:20260422T081637
CREATED:20260103T225319Z
LAST-MODIFIED:20260109T230826Z
UID:10000631-1795276800-1795282200@lux-mundi.org
SUMMARY:Roman Catholic Mass in English
DESCRIPTION:Please contact the centre for confirmation.
URL:https://lux-mundi.org/event/roman-catholic-mass-in-english/2026-11-21/
CATEGORIES:Mass
END:VEVENT
BEGIN:VEVENT
DTSTART;TZID=Europe/Madrid:20261122T110000
DTEND;TZID=Europe/Madrid:20261122T133000
DTSTAMP:20260422T081637
CREATED:20260103T225625Z
LAST-MODIFIED:20260103T225625Z
UID:10000892-1795345200-1795354200@lux-mundi.org
SUMMARY:Spanish Reformed Episcopal Church Church. St Barnabas
DESCRIPTION:
URL:https://lux-mundi.org/event/spanish-reformed-episcopal-church-church-st-barnabas/2026-11-22/
CATEGORIES:Church
END:VEVENT
BEGIN:VEVENT
DTSTART;TZID=Europe/Madrid:20261123T163000
DTEND;TZID=Europe/Madrid:20261123T180000
DTSTAMP:20260422T081637
CREATED:20260103T224428Z
LAST-MODIFIED:20260103T224516Z
UID:10000535-1795451400-1795456800@lux-mundi.org
SUMMARY:Monthly Movies
DESCRIPTION:Come and join us for a monthly afternoon featuring select classic movies from the golden era of Hollywood. \nTICKET  3€\nTIME: 16.30 H \nLocation: Lux Mundi – Avenida Moscatel\,1\,I\nEntrando por Calle Rioja (Torre del Mar) \n 
URL:https://lux-mundi.org/event/monthly-movies/2026-11-23/
LOCATION:Lux Mundi – Torre del Mar\, Avenida Moscatel\, 1 «I»\, C. Casa de la Viña\, Torre del Mar\, Málaga\, 29740\, Spain
CATEGORIES:For everyone
ATTACH;FMTTYPE=image/jpeg:https://lux-mundi.org/wp-content/uploads/2026/01/MovieClassicHollywoodMatinee.jpg
END:VEVENT
END:VCALENDAR