BEGIN:VCALENDAR
VERSION:2.0
PRODID:-//Lux Mundi - ECPv6.15.16//NONSGML v1.0//EN
CALSCALE:GREGORIAN
METHOD:PUBLISH
X-WR-CALNAME:Lux Mundi
X-ORIGINAL-URL:https://lux-mundi.org
X-WR-CALDESC:Events for Lux Mundi
REFRESH-INTERVAL;VALUE=DURATION:PT1H
X-Robots-Tag:noindex
X-PUBLISHED-TTL:PT1H
BEGIN:VTIMEZONE
TZID:Europe/Madrid
BEGIN:DAYLIGHT
TZOFFSETFROM:+0100
TZOFFSETTO:+0200
TZNAME:CEST
DTSTART:20250330T010000
END:DAYLIGHT
BEGIN:STANDARD
TZOFFSETFROM:+0200
TZOFFSETTO:+0100
TZNAME:CET
DTSTART:20251026T010000
END:STANDARD
BEGIN:DAYLIGHT
TZOFFSETFROM:+0100
TZOFFSETTO:+0200
TZNAME:CEST
DTSTART:20260329T010000
END:DAYLIGHT
BEGIN:STANDARD
TZOFFSETFROM:+0200
TZOFFSETTO:+0100
TZNAME:CET
DTSTART:20261025T010000
END:STANDARD
BEGIN:DAYLIGHT
TZOFFSETFROM:+0100
TZOFFSETTO:+0200
TZNAME:CEST
DTSTART:20270328T010000
END:DAYLIGHT
BEGIN:STANDARD
TZOFFSETFROM:+0200
TZOFFSETTO:+0100
TZNAME:CET
DTSTART:20271031T010000
END:STANDARD
END:VTIMEZONE
BEGIN:VEVENT
DTSTART;TZID=Europe/Madrid:20260327T110000
DTEND;TZID=Europe/Madrid:20260327T130000
DTSTAMP:20260422T094447
CREATED:20260103T223352Z
LAST-MODIFIED:20260103T223352Z
UID:10000275-1774609200-1774616400@lux-mundi.org
SUMMARY:Coffee Morning
DESCRIPTION:A Coffee with Everyone\nEvery Friday morning\, the centre opens its doors to share a cup of tea or coffee\, a refreshing drink\, friendly conversation\, and a slice of freshly baked homemade cake. \nIt’s an open invitation to friends\, visitors\, and supporters\, in a relaxed and welcoming atmosphere — the perfect setting to meet others\, make new friends\, and enjoy an easy-going morning together. \nYou can also: \nFind out about the centre’s activities\nPick up English-language newspapers\nBrowse our charity shop\nExplore the library \n  \n🌟 Start your weekend with joy\, flavour\, and good company — we look forward to seeing you!
URL:https://lux-mundi.org/event/coffee-morning/2026-03-27/
LOCATION:Lux Mundi – Torre del Mar\, Avenida Moscatel\, 1 «I»\, C. Casa de la Viña\, Torre del Mar\, Málaga\, 29740\, Spain
CATEGORIES:For everyone
ATTACH;FMTTYPE=image/jpeg:https://lux-mundi.org/wp-content/uploads/2016/04/Easte-Bazaar-Sue-5-e1460458543620.jpeg
END:VEVENT
BEGIN:VEVENT
DTSTART;VALUE=DATE:20260327
DTEND;VALUE=DATE:20260328
DTSTAMP:20260422T094447
CREATED:20260129T165449Z
LAST-MODIFIED:20260129T165517Z
UID:10001110-1774569600-1774655999@lux-mundi.org
SUMMARY:Salon de Varietes - Chicago - El Musical
DESCRIPTION:We’re going to a show together! Chicaco – The Musical\nTickets now on sale! \nTICKET  53€ \nTICKET 50€ for “Friends of Lux Mundi” \nTIME OF PICKUP\nAlgarrobo – 15:30\nCaleta – 15:35\nTorre del Mar – 15:45 \nShow starts at 19:30\, so time to shop or have meal on arrival in Fuengirola at 17:00 approx. \nDeparture from Fuengirola 10:45 PM approx. \nIn case of cancellation 48 hours before the trip. The cost is non refundable. \n 
URL:https://lux-mundi.org/event/salon-de-varietes-chicago-el-musical/
CATEGORIES:For everyone
ATTACH;FMTTYPE=image/jpeg:https://lux-mundi.org/wp-content/uploads/2026/01/salon-de-varietes-Chicago.jpeg
END:VEVENT
BEGIN:VEVENT
DTSTART;TZID=Europe/Madrid:20260325T110000
DTEND;TZID=Europe/Madrid:20260325T130000
DTSTAMP:20260422T094447
CREATED:20260103T222511Z
LAST-MODIFIED:20260103T222909Z
UID:10000014-1774436400-1774443600@lux-mundi.org
SUMMARY:Creative Group: Art and Friendship
DESCRIPTION:Every Wednesday\, a group of people meet to paint\, knit\, and create in an atmosphere full of joy and companionship. Whether you enjoy oil painting\, watercolours\, pen and ink\, crafts\, or simply sharing a pleasant time together\, this space is for you. \nThere is no teacher and no strict rules — only the desire to enjoy\, learn from one another\, and let creativity flow in good company. \nBring your materials\, your talent (or your eagerness to discover it)\, and join this warm\, creative community.
URL:https://lux-mundi.org/event/creative-group-art-and-friendship/2026-03-25/
LOCATION:Lux Mundi – Torre del Mar\, Avenida Moscatel\, 1 «I»\, C. Casa de la Viña\, Torre del Mar\, Málaga\, 29740\, Spain
CATEGORIES:Workshop
ATTACH;FMTTYPE=image/jpeg:https://lux-mundi.org/wp-content/uploads/2025/11/artworks2.jpg
END:VEVENT
BEGIN:VEVENT
DTSTART;TZID=Europe/Madrid:20260323T163000
DTEND;TZID=Europe/Madrid:20260323T180000
DTSTAMP:20260422T094447
CREATED:20260103T224428Z
LAST-MODIFIED:20260103T224516Z
UID:10000527-1774283400-1774288800@lux-mundi.org
SUMMARY:Monthly Movies
DESCRIPTION:Come and join us for a monthly afternoon featuring select classic movies from the golden era of Hollywood. \nTICKET  3€\nTIME: 16.30 H \nLocation: Lux Mundi – Avenida Moscatel\,1\,I\nEntrando por Calle Rioja (Torre del Mar) \n 
URL:https://lux-mundi.org/event/monthly-movies/2026-03-23/
LOCATION:Lux Mundi – Torre del Mar\, Avenida Moscatel\, 1 «I»\, C. Casa de la Viña\, Torre del Mar\, Málaga\, 29740\, Spain
CATEGORIES:For everyone
ATTACH;FMTTYPE=image/jpeg:https://lux-mundi.org/wp-content/uploads/2026/01/MovieClassicHollywoodMatinee.jpg
END:VEVENT
BEGIN:VEVENT
DTSTART;TZID=Europe/Madrid:20260322T110000
DTEND;TZID=Europe/Madrid:20260322T133000
DTSTAMP:20260422T094447
CREATED:20260103T225625Z
LAST-MODIFIED:20260103T225625Z
UID:10000857-1774177200-1774186200@lux-mundi.org
SUMMARY:Spanish Reformed Episcopal Church Church. St Barnabas
DESCRIPTION:
URL:https://lux-mundi.org/event/spanish-reformed-episcopal-church-church-st-barnabas/2026-03-22/
CATEGORIES:Church
END:VEVENT
BEGIN:VEVENT
DTSTART;TZID=Europe/Madrid:20260321T160000
DTEND;TZID=Europe/Madrid:20260321T173000
DTSTAMP:20260422T094447
CREATED:20260103T225319Z
LAST-MODIFIED:20260109T230826Z
UID:10000596-1774108800-1774114200@lux-mundi.org
SUMMARY:Roman Catholic Mass in English
DESCRIPTION:Please contact the centre for confirmation.
URL:https://lux-mundi.org/event/roman-catholic-mass-in-english/2026-03-21/
CATEGORIES:Mass
END:VEVENT
BEGIN:VEVENT
DTSTART;TZID=Europe/Madrid:20260320T110000
DTEND;TZID=Europe/Madrid:20260320T130000
DTSTAMP:20260422T094447
CREATED:20260103T223352Z
LAST-MODIFIED:20260103T223352Z
UID:10000274-1774004400-1774011600@lux-mundi.org
SUMMARY:Coffee Morning
DESCRIPTION:A Coffee with Everyone\nEvery Friday morning\, the centre opens its doors to share a cup of tea or coffee\, a refreshing drink\, friendly conversation\, and a slice of freshly baked homemade cake. \nIt’s an open invitation to friends\, visitors\, and supporters\, in a relaxed and welcoming atmosphere — the perfect setting to meet others\, make new friends\, and enjoy an easy-going morning together. \nYou can also: \nFind out about the centre’s activities\nPick up English-language newspapers\nBrowse our charity shop\nExplore the library \n  \n🌟 Start your weekend with joy\, flavour\, and good company — we look forward to seeing you!
URL:https://lux-mundi.org/event/coffee-morning/2026-03-20/
LOCATION:Lux Mundi – Torre del Mar\, Avenida Moscatel\, 1 «I»\, C. Casa de la Viña\, Torre del Mar\, Málaga\, 29740\, Spain
CATEGORIES:For everyone
ATTACH;FMTTYPE=image/jpeg:https://lux-mundi.org/wp-content/uploads/2016/04/Easte-Bazaar-Sue-5-e1460458543620.jpeg
END:VEVENT
BEGIN:VEVENT
DTSTART;TZID=Europe/Madrid:20260318T110000
DTEND;TZID=Europe/Madrid:20260318T130000
DTSTAMP:20260422T094447
CREATED:20260103T222511Z
LAST-MODIFIED:20260103T222909Z
UID:10000013-1773831600-1773838800@lux-mundi.org
SUMMARY:Creative Group: Art and Friendship
DESCRIPTION:Every Wednesday\, a group of people meet to paint\, knit\, and create in an atmosphere full of joy and companionship. Whether you enjoy oil painting\, watercolours\, pen and ink\, crafts\, or simply sharing a pleasant time together\, this space is for you. \nThere is no teacher and no strict rules — only the desire to enjoy\, learn from one another\, and let creativity flow in good company. \nBring your materials\, your talent (or your eagerness to discover it)\, and join this warm\, creative community.
URL:https://lux-mundi.org/event/creative-group-art-and-friendship/2026-03-18/
LOCATION:Lux Mundi – Torre del Mar\, Avenida Moscatel\, 1 «I»\, C. Casa de la Viña\, Torre del Mar\, Málaga\, 29740\, Spain
CATEGORIES:Workshop
ATTACH;FMTTYPE=image/jpeg:https://lux-mundi.org/wp-content/uploads/2025/11/artworks2.jpg
END:VEVENT
BEGIN:VEVENT
DTSTART;TZID=Europe/Madrid:20260315T110000
DTEND;TZID=Europe/Madrid:20260315T133000
DTSTAMP:20260422T094447
CREATED:20260103T225625Z
LAST-MODIFIED:20260103T225625Z
UID:10000856-1773572400-1773581400@lux-mundi.org
SUMMARY:Spanish Reformed Episcopal Church Church. St Barnabas
DESCRIPTION:
URL:https://lux-mundi.org/event/spanish-reformed-episcopal-church-church-st-barnabas/2026-03-15/
CATEGORIES:Church
END:VEVENT
BEGIN:VEVENT
DTSTART;TZID=Europe/Madrid:20260314T160000
DTEND;TZID=Europe/Madrid:20260314T173000
DTSTAMP:20260422T094447
CREATED:20260103T225319Z
LAST-MODIFIED:20260109T230826Z
UID:10000595-1773504000-1773509400@lux-mundi.org
SUMMARY:Roman Catholic Mass in English
DESCRIPTION:Please contact the centre for confirmation.
URL:https://lux-mundi.org/event/roman-catholic-mass-in-english/2026-03-14/
CATEGORIES:Mass
END:VEVENT
BEGIN:VEVENT
DTSTART;TZID=Europe/Madrid:20260313T110000
DTEND;TZID=Europe/Madrid:20260313T130000
DTSTAMP:20260422T094447
CREATED:20260103T223352Z
LAST-MODIFIED:20260103T223352Z
UID:10000273-1773399600-1773406800@lux-mundi.org
SUMMARY:Coffee Morning
DESCRIPTION:A Coffee with Everyone\nEvery Friday morning\, the centre opens its doors to share a cup of tea or coffee\, a refreshing drink\, friendly conversation\, and a slice of freshly baked homemade cake. \nIt’s an open invitation to friends\, visitors\, and supporters\, in a relaxed and welcoming atmosphere — the perfect setting to meet others\, make new friends\, and enjoy an easy-going morning together. \nYou can also: \nFind out about the centre’s activities\nPick up English-language newspapers\nBrowse our charity shop\nExplore the library \n  \n🌟 Start your weekend with joy\, flavour\, and good company — we look forward to seeing you!
URL:https://lux-mundi.org/event/coffee-morning/2026-03-13/
LOCATION:Lux Mundi – Torre del Mar\, Avenida Moscatel\, 1 «I»\, C. Casa de la Viña\, Torre del Mar\, Málaga\, 29740\, Spain
CATEGORIES:For everyone
ATTACH;FMTTYPE=image/jpeg:https://lux-mundi.org/wp-content/uploads/2016/04/Easte-Bazaar-Sue-5-e1460458543620.jpeg
END:VEVENT
BEGIN:VEVENT
DTSTART;TZID=Europe/Madrid:20260311T110000
DTEND;TZID=Europe/Madrid:20260311T130000
DTSTAMP:20260422T094447
CREATED:20260103T222511Z
LAST-MODIFIED:20260103T222909Z
UID:10000012-1773226800-1773234000@lux-mundi.org
SUMMARY:Creative Group: Art and Friendship
DESCRIPTION:Every Wednesday\, a group of people meet to paint\, knit\, and create in an atmosphere full of joy and companionship. Whether you enjoy oil painting\, watercolours\, pen and ink\, crafts\, or simply sharing a pleasant time together\, this space is for you. \nThere is no teacher and no strict rules — only the desire to enjoy\, learn from one another\, and let creativity flow in good company. \nBring your materials\, your talent (or your eagerness to discover it)\, and join this warm\, creative community.
URL:https://lux-mundi.org/event/creative-group-art-and-friendship/2026-03-11/
LOCATION:Lux Mundi – Torre del Mar\, Avenida Moscatel\, 1 «I»\, C. Casa de la Viña\, Torre del Mar\, Málaga\, 29740\, Spain
CATEGORIES:Workshop
ATTACH;FMTTYPE=image/jpeg:https://lux-mundi.org/wp-content/uploads/2025/11/artworks2.jpg
END:VEVENT
BEGIN:VEVENT
DTSTART;TZID=Europe/Madrid:20260308T110000
DTEND;TZID=Europe/Madrid:20260308T133000
DTSTAMP:20260422T094447
CREATED:20260103T225625Z
LAST-MODIFIED:20260103T225625Z
UID:10000855-1772967600-1772976600@lux-mundi.org
SUMMARY:Spanish Reformed Episcopal Church Church. St Barnabas
DESCRIPTION:
URL:https://lux-mundi.org/event/spanish-reformed-episcopal-church-church-st-barnabas/2026-03-08/
CATEGORIES:Church
END:VEVENT
BEGIN:VEVENT
DTSTART;TZID=Europe/Madrid:20260307T160000
DTEND;TZID=Europe/Madrid:20260307T173000
DTSTAMP:20260422T094447
CREATED:20260103T225319Z
LAST-MODIFIED:20260109T230826Z
UID:10000594-1772899200-1772904600@lux-mundi.org
SUMMARY:Roman Catholic Mass in English
DESCRIPTION:Please contact the centre for confirmation.
URL:https://lux-mundi.org/event/roman-catholic-mass-in-english/2026-03-07/
CATEGORIES:Mass
END:VEVENT
BEGIN:VEVENT
DTSTART;TZID=Europe/Madrid:20260306T110000
DTEND;TZID=Europe/Madrid:20260306T130000
DTSTAMP:20260422T094447
CREATED:20260103T223352Z
LAST-MODIFIED:20260103T223352Z
UID:10000272-1772794800-1772802000@lux-mundi.org
SUMMARY:Coffee Morning
DESCRIPTION:A Coffee with Everyone\nEvery Friday morning\, the centre opens its doors to share a cup of tea or coffee\, a refreshing drink\, friendly conversation\, and a slice of freshly baked homemade cake. \nIt’s an open invitation to friends\, visitors\, and supporters\, in a relaxed and welcoming atmosphere — the perfect setting to meet others\, make new friends\, and enjoy an easy-going morning together. \nYou can also: \nFind out about the centre’s activities\nPick up English-language newspapers\nBrowse our charity shop\nExplore the library \n  \n🌟 Start your weekend with joy\, flavour\, and good company — we look forward to seeing you!
URL:https://lux-mundi.org/event/coffee-morning/2026-03-06/
LOCATION:Lux Mundi – Torre del Mar\, Avenida Moscatel\, 1 «I»\, C. Casa de la Viña\, Torre del Mar\, Málaga\, 29740\, Spain
CATEGORIES:For everyone
ATTACH;FMTTYPE=image/jpeg:https://lux-mundi.org/wp-content/uploads/2016/04/Easte-Bazaar-Sue-5-e1460458543620.jpeg
END:VEVENT
BEGIN:VEVENT
DTSTART;TZID=Europe/Madrid:20260304T110000
DTEND;TZID=Europe/Madrid:20260304T130000
DTSTAMP:20260422T094447
CREATED:20260103T222511Z
LAST-MODIFIED:20260103T222909Z
UID:10000011-1772622000-1772629200@lux-mundi.org
SUMMARY:Creative Group: Art and Friendship
DESCRIPTION:Every Wednesday\, a group of people meet to paint\, knit\, and create in an atmosphere full of joy and companionship. Whether you enjoy oil painting\, watercolours\, pen and ink\, crafts\, or simply sharing a pleasant time together\, this space is for you. \nThere is no teacher and no strict rules — only the desire to enjoy\, learn from one another\, and let creativity flow in good company. \nBring your materials\, your talent (or your eagerness to discover it)\, and join this warm\, creative community.
URL:https://lux-mundi.org/event/creative-group-art-and-friendship/2026-03-04/
LOCATION:Lux Mundi – Torre del Mar\, Avenida Moscatel\, 1 «I»\, C. Casa de la Viña\, Torre del Mar\, Málaga\, 29740\, Spain
CATEGORIES:Workshop
ATTACH;FMTTYPE=image/jpeg:https://lux-mundi.org/wp-content/uploads/2025/11/artworks2.jpg
END:VEVENT
BEGIN:VEVENT
DTSTART;TZID=Europe/Madrid:20260301T110000
DTEND;TZID=Europe/Madrid:20260301T133000
DTSTAMP:20260422T094447
CREATED:20260103T225625Z
LAST-MODIFIED:20260103T225625Z
UID:10000854-1772362800-1772371800@lux-mundi.org
SUMMARY:Spanish Reformed Episcopal Church Church. St Barnabas
DESCRIPTION:
URL:https://lux-mundi.org/event/spanish-reformed-episcopal-church-church-st-barnabas/2026-03-01/
CATEGORIES:Church
END:VEVENT
BEGIN:VEVENT
DTSTART;TZID=Europe/Madrid:20260228T160000
DTEND;TZID=Europe/Madrid:20260228T173000
DTSTAMP:20260422T094447
CREATED:20260103T225319Z
LAST-MODIFIED:20260109T230826Z
UID:10000593-1772294400-1772299800@lux-mundi.org
SUMMARY:Roman Catholic Mass in English
DESCRIPTION:Please contact the centre for confirmation.
URL:https://lux-mundi.org/event/roman-catholic-mass-in-english/2026-02-28/
CATEGORIES:Mass
END:VEVENT
BEGIN:VEVENT
DTSTART;TZID=Europe/Madrid:20260227T110000
DTEND;TZID=Europe/Madrid:20260227T130000
DTSTAMP:20260422T094447
CREATED:20260103T223352Z
LAST-MODIFIED:20260103T223352Z
UID:10000271-1772190000-1772197200@lux-mundi.org
SUMMARY:Coffee Morning
DESCRIPTION:A Coffee with Everyone\nEvery Friday morning\, the centre opens its doors to share a cup of tea or coffee\, a refreshing drink\, friendly conversation\, and a slice of freshly baked homemade cake. \nIt’s an open invitation to friends\, visitors\, and supporters\, in a relaxed and welcoming atmosphere — the perfect setting to meet others\, make new friends\, and enjoy an easy-going morning together. \nYou can also: \nFind out about the centre’s activities\nPick up English-language newspapers\nBrowse our charity shop\nExplore the library \n  \n🌟 Start your weekend with joy\, flavour\, and good company — we look forward to seeing you!
URL:https://lux-mundi.org/event/coffee-morning/2026-02-27/
LOCATION:Lux Mundi – Torre del Mar\, Avenida Moscatel\, 1 «I»\, C. Casa de la Viña\, Torre del Mar\, Málaga\, 29740\, Spain
CATEGORIES:For everyone
ATTACH;FMTTYPE=image/jpeg:https://lux-mundi.org/wp-content/uploads/2016/04/Easte-Bazaar-Sue-5-e1460458543620.jpeg
END:VEVENT
BEGIN:VEVENT
DTSTART;TZID=Europe/Madrid:20260226T093000
DTEND;TZID=Europe/Madrid:20260226T110000
DTSTAMP:20260422T094447
CREATED:20260205T180237Z
LAST-MODIFIED:20260205T180237Z
UID:10001112-1772098200-1772103600@lux-mundi.org
SUMMARY:Food drive
DESCRIPTION:February is for Love — Let’s Share It Locally\nAs you know here in our community some local families are facing a really tough time and rely on the support of Lux Mundi’s Food Drive Torre Del Mar.\nWe believe love isn’t just something you feel — it’s something you do. A bag of pasta\, some cereal or a tin of tuna might seem small\, but to a family in need it means security\, warmth\, and knowing they’re not alone. \nThis month we need items such\nas:\nrice\,\ntuna\,\ndried lentils\nchickpeas\,\ntomato frito\,\ncereal\,\nbiscuits\,\ncoffee\,\nchocolate milk powder\nand sunflower oil. \nIf you’re able to please donate\, or even just help spread the word.\nYou’ll be helping turn February into more than hearts and chocolates — you’re turning it into real\, practical love.\nThank you for any support you can give. \nThank you so much for everything you do to help these needy families in our local community. We simply couldn’t do this without you! \nHowever\, if you prefer to donate money you can do so in one of these three ways: \n\nDirect at Lux-Mundi Ecumenical Center in Torre del Mar\nVia Bizum – search for the NGO\, enter the code 07388\, add the amount 1\ndonate and also indicate “food bank”.\n\n 
URL:https://lux-mundi.org/event/food-drive/
LOCATION:Lux Mundi – Torre del Mar\, Avenida Moscatel\, 1 «I»\, C. Casa de la Viña\, Torre del Mar\, Málaga\, 29740\, Spain
CATEGORIES:For everyone
ATTACH;FMTTYPE=image/jpeg:https://lux-mundi.org/wp-content/uploads/2026/02/food-drive-feb.jpeg
END:VEVENT
BEGIN:VEVENT
DTSTART;VALUE=DATE:20260226
DTEND;VALUE=DATE:20260227
DTSTAMP:20260422T094447
CREATED:20260130T150657Z
LAST-MODIFIED:20260130T150657Z
UID:10001111-1772064000-1772150399@lux-mundi.org
SUMMARY:Selwo Marina and Torremolinos old town
DESCRIPTION:35-seat bus to go to Selwo Marina\, Benalmadena\, and Torremolinos old town on Thursday February 26th with pickup points and times as follows:-\nAlgarrobo (Lidl) – 09:00\nCaleta (vets) – 09:05\nTorre del Mar (Bus station) – 09:15 \nArrival at Selwo around 10:15. \nTicket: 42 EUR\nTicket for “Friends of Lux Mundi”: 38 EUR \n3 hours at the marina and then on the bus to the historic centre of Torremolinos. Free time.\nDeparture from Torremolinos at 17:00. \nIn case of cancellation 48 hours before the trip. The cost is non refundable. \n 
URL:https://lux-mundi.org/event/marina-and-torremolinos-old-town/
CATEGORIES:Day tours,For everyone
ATTACH;FMTTYPE=image/jpeg:https://lux-mundi.org/wp-content/uploads/2026/01/SelwoMarina.jpeg
END:VEVENT
BEGIN:VEVENT
DTSTART;TZID=Europe/Madrid:20260225T110000
DTEND;TZID=Europe/Madrid:20260225T130000
DTSTAMP:20260422T094447
CREATED:20260103T222511Z
LAST-MODIFIED:20260103T222909Z
UID:10000010-1772017200-1772024400@lux-mundi.org
SUMMARY:Creative Group: Art and Friendship
DESCRIPTION:Every Wednesday\, a group of people meet to paint\, knit\, and create in an atmosphere full of joy and companionship. Whether you enjoy oil painting\, watercolours\, pen and ink\, crafts\, or simply sharing a pleasant time together\, this space is for you. \nThere is no teacher and no strict rules — only the desire to enjoy\, learn from one another\, and let creativity flow in good company. \nBring your materials\, your talent (or your eagerness to discover it)\, and join this warm\, creative community.
URL:https://lux-mundi.org/event/creative-group-art-and-friendship/2026-02-25/
LOCATION:Lux Mundi – Torre del Mar\, Avenida Moscatel\, 1 «I»\, C. Casa de la Viña\, Torre del Mar\, Málaga\, 29740\, Spain
CATEGORIES:Workshop
ATTACH;FMTTYPE=image/jpeg:https://lux-mundi.org/wp-content/uploads/2025/11/artworks2.jpg
END:VEVENT
BEGIN:VEVENT
DTSTART;TZID=Europe/Madrid:20260223T163000
DTEND;TZID=Europe/Madrid:20260223T183000
DTSTAMP:20260422T094447
CREATED:20260205T181708Z
LAST-MODIFIED:20260205T181708Z
UID:10001113-1771864200-1771871400@lux-mundi.org
SUMMARY:Film Club
DESCRIPTION:Join us for Lux Mundi Film Club in Torre del Mar on Monday 23rd February at 4:30pm (doors open 4:00pm). \nThis month’s film is “Lady in the van” (with Maggie Smith). \nEntry €3.
URL:https://lux-mundi.org/event/film-club/
LOCATION:Lux Mundi – Torre del Mar\, Avenida Moscatel\, 1 «I»\, C. Casa de la Viña\, Torre del Mar\, Málaga\, 29740\, Spain
CATEGORIES:For everyone
ATTACH;FMTTYPE=image/jpeg:https://lux-mundi.org/wp-content/uploads/2026/02/film-club-feb2026.jpeg
END:VEVENT
BEGIN:VEVENT
DTSTART;TZID=Europe/Madrid:20260223T163000
DTEND;TZID=Europe/Madrid:20260223T180000
DTSTAMP:20260422T094447
CREATED:20260103T224428Z
LAST-MODIFIED:20260103T224516Z
UID:10000526-1771864200-1771869600@lux-mundi.org
SUMMARY:Monthly Movies
DESCRIPTION:Come and join us for a monthly afternoon featuring select classic movies from the golden era of Hollywood. \nTICKET  3€\nTIME: 16.30 H \nLocation: Lux Mundi – Avenida Moscatel\,1\,I\nEntrando por Calle Rioja (Torre del Mar) \n 
URL:https://lux-mundi.org/event/monthly-movies/2026-02-23/
LOCATION:Lux Mundi – Torre del Mar\, Avenida Moscatel\, 1 «I»\, C. Casa de la Viña\, Torre del Mar\, Málaga\, 29740\, Spain
CATEGORIES:For everyone
ATTACH;FMTTYPE=image/jpeg:https://lux-mundi.org/wp-content/uploads/2026/01/MovieClassicHollywoodMatinee.jpg
END:VEVENT
BEGIN:VEVENT
DTSTART;TZID=Europe/Madrid:20260222T110000
DTEND;TZID=Europe/Madrid:20260222T133000
DTSTAMP:20260422T094447
CREATED:20260103T225625Z
LAST-MODIFIED:20260103T225625Z
UID:10000853-1771758000-1771767000@lux-mundi.org
SUMMARY:Spanish Reformed Episcopal Church Church. St Barnabas
DESCRIPTION:
URL:https://lux-mundi.org/event/spanish-reformed-episcopal-church-church-st-barnabas/2026-02-22/
CATEGORIES:Church
END:VEVENT
BEGIN:VEVENT
DTSTART;TZID=Europe/Madrid:20260221T160000
DTEND;TZID=Europe/Madrid:20260221T173000
DTSTAMP:20260422T094447
CREATED:20260103T225319Z
LAST-MODIFIED:20260109T230826Z
UID:10000592-1771689600-1771695000@lux-mundi.org
SUMMARY:Roman Catholic Mass in English
DESCRIPTION:Please contact the centre for confirmation.
URL:https://lux-mundi.org/event/roman-catholic-mass-in-english/2026-02-21/
CATEGORIES:Mass
END:VEVENT
BEGIN:VEVENT
DTSTART;TZID=Europe/Madrid:20260220T110000
DTEND;TZID=Europe/Madrid:20260220T130000
DTSTAMP:20260422T094447
CREATED:20260103T223352Z
LAST-MODIFIED:20260103T223352Z
UID:10000270-1771585200-1771592400@lux-mundi.org
SUMMARY:Coffee Morning
DESCRIPTION:A Coffee with Everyone\nEvery Friday morning\, the centre opens its doors to share a cup of tea or coffee\, a refreshing drink\, friendly conversation\, and a slice of freshly baked homemade cake. \nIt’s an open invitation to friends\, visitors\, and supporters\, in a relaxed and welcoming atmosphere — the perfect setting to meet others\, make new friends\, and enjoy an easy-going morning together. \nYou can also: \nFind out about the centre’s activities\nPick up English-language newspapers\nBrowse our charity shop\nExplore the library \n  \n🌟 Start your weekend with joy\, flavour\, and good company — we look forward to seeing you!
URL:https://lux-mundi.org/event/coffee-morning/2026-02-20/
LOCATION:Lux Mundi – Torre del Mar\, Avenida Moscatel\, 1 «I»\, C. Casa de la Viña\, Torre del Mar\, Málaga\, 29740\, Spain
CATEGORIES:For everyone
ATTACH;FMTTYPE=image/jpeg:https://lux-mundi.org/wp-content/uploads/2016/04/Easte-Bazaar-Sue-5-e1460458543620.jpeg
END:VEVENT
BEGIN:VEVENT
DTSTART;TZID=Europe/Madrid:20260218T110000
DTEND;TZID=Europe/Madrid:20260218T130000
DTSTAMP:20260422T094447
CREATED:20260103T222511Z
LAST-MODIFIED:20260103T222909Z
UID:10000009-1771412400-1771419600@lux-mundi.org
SUMMARY:Creative Group: Art and Friendship
DESCRIPTION:Every Wednesday\, a group of people meet to paint\, knit\, and create in an atmosphere full of joy and companionship. Whether you enjoy oil painting\, watercolours\, pen and ink\, crafts\, or simply sharing a pleasant time together\, this space is for you. \nThere is no teacher and no strict rules — only the desire to enjoy\, learn from one another\, and let creativity flow in good company. \nBring your materials\, your talent (or your eagerness to discover it)\, and join this warm\, creative community.
URL:https://lux-mundi.org/event/creative-group-art-and-friendship/2026-02-18/
LOCATION:Lux Mundi – Torre del Mar\, Avenida Moscatel\, 1 «I»\, C. Casa de la Viña\, Torre del Mar\, Málaga\, 29740\, Spain
CATEGORIES:Workshop
ATTACH;FMTTYPE=image/jpeg:https://lux-mundi.org/wp-content/uploads/2025/11/artworks2.jpg
END:VEVENT
BEGIN:VEVENT
DTSTART;TZID=Europe/Madrid:20260215T110000
DTEND;TZID=Europe/Madrid:20260215T133000
DTSTAMP:20260422T094447
CREATED:20260103T225625Z
LAST-MODIFIED:20260103T225625Z
UID:10000852-1771153200-1771162200@lux-mundi.org
SUMMARY:Spanish Reformed Episcopal Church Church. St Barnabas
DESCRIPTION:
URL:https://lux-mundi.org/event/spanish-reformed-episcopal-church-church-st-barnabas/2026-02-15/
CATEGORIES:Church
END:VEVENT
BEGIN:VEVENT
DTSTART;TZID=Europe/Madrid:20260214T160000
DTEND;TZID=Europe/Madrid:20260214T173000
DTSTAMP:20260422T094447
CREATED:20260103T225319Z
LAST-MODIFIED:20260109T230826Z
UID:10000591-1771084800-1771090200@lux-mundi.org
SUMMARY:Roman Catholic Mass in English
DESCRIPTION:Please contact the centre for confirmation.
URL:https://lux-mundi.org/event/roman-catholic-mass-in-english/2026-02-14/
CATEGORIES:Mass
END:VEVENT
END:VCALENDAR