BEGIN:VCALENDAR
VERSION:2.0
PRODID:-//Lux Mundi - ECPv6.15.16//NONSGML v1.0//EN
CALSCALE:GREGORIAN
METHOD:PUBLISH
X-WR-CALNAME:Lux Mundi
X-ORIGINAL-URL:https://lux-mundi.org
X-WR-CALDESC:Events for Lux Mundi
REFRESH-INTERVAL;VALUE=DURATION:PT1H
X-Robots-Tag:noindex
X-PUBLISHED-TTL:PT1H
BEGIN:VTIMEZONE
TZID:Europe/Madrid
BEGIN:DAYLIGHT
TZOFFSETFROM:+0100
TZOFFSETTO:+0200
TZNAME:CEST
DTSTART:20250330T010000
END:DAYLIGHT
BEGIN:STANDARD
TZOFFSETFROM:+0200
TZOFFSETTO:+0100
TZNAME:CET
DTSTART:20251026T010000
END:STANDARD
BEGIN:DAYLIGHT
TZOFFSETFROM:+0100
TZOFFSETTO:+0200
TZNAME:CEST
DTSTART:20260329T010000
END:DAYLIGHT
BEGIN:STANDARD
TZOFFSETFROM:+0200
TZOFFSETTO:+0100
TZNAME:CET
DTSTART:20261025T010000
END:STANDARD
BEGIN:DAYLIGHT
TZOFFSETFROM:+0100
TZOFFSETTO:+0200
TZNAME:CEST
DTSTART:20270328T010000
END:DAYLIGHT
BEGIN:STANDARD
TZOFFSETFROM:+0200
TZOFFSETTO:+0100
TZNAME:CET
DTSTART:20271031T010000
END:STANDARD
END:VTIMEZONE
BEGIN:VEVENT
DTSTART;TZID=Europe/Madrid:20260731T110000
DTEND;TZID=Europe/Madrid:20260731T130000
DTSTAMP:20260422T093521
CREATED:20260103T223352Z
LAST-MODIFIED:20260103T223352Z
UID:10000293-1785495600-1785502800@lux-mundi.org
SUMMARY:Coffee Morning
DESCRIPTION:A Coffee with Everyone\nEvery Friday morning\, the centre opens its doors to share a cup of tea or coffee\, a refreshing drink\, friendly conversation\, and a slice of freshly baked homemade cake. \nIt’s an open invitation to friends\, visitors\, and supporters\, in a relaxed and welcoming atmosphere — the perfect setting to meet others\, make new friends\, and enjoy an easy-going morning together. \nYou can also: \nFind out about the centre’s activities\nPick up English-language newspapers\nBrowse our charity shop\nExplore the library \n  \n🌟 Start your weekend with joy\, flavour\, and good company — we look forward to seeing you!
URL:https://lux-mundi.org/event/coffee-morning/2026-07-31/
LOCATION:Lux Mundi – Torre del Mar\, Avenida Moscatel\, 1 «I»\, C. Casa de la Viña\, Torre del Mar\, Málaga\, 29740\, Spain
CATEGORIES:For everyone
ATTACH;FMTTYPE=image/jpeg:https://lux-mundi.org/wp-content/uploads/2016/04/Easte-Bazaar-Sue-5-e1460458543620.jpeg
END:VEVENT
BEGIN:VEVENT
DTSTART;TZID=Europe/Madrid:20260729T110000
DTEND;TZID=Europe/Madrid:20260729T130000
DTSTAMP:20260422T093521
CREATED:20260103T222511Z
LAST-MODIFIED:20260103T222909Z
UID:10000032-1785322800-1785330000@lux-mundi.org
SUMMARY:Creative Group: Art and Friendship
DESCRIPTION:Every Wednesday\, a group of people meet to paint\, knit\, and create in an atmosphere full of joy and companionship. Whether you enjoy oil painting\, watercolours\, pen and ink\, crafts\, or simply sharing a pleasant time together\, this space is for you. \nThere is no teacher and no strict rules — only the desire to enjoy\, learn from one another\, and let creativity flow in good company. \nBring your materials\, your talent (or your eagerness to discover it)\, and join this warm\, creative community.
URL:https://lux-mundi.org/event/creative-group-art-and-friendship/2026-07-29/
LOCATION:Lux Mundi – Torre del Mar\, Avenida Moscatel\, 1 «I»\, C. Casa de la Viña\, Torre del Mar\, Málaga\, 29740\, Spain
CATEGORIES:Workshop
ATTACH;FMTTYPE=image/jpeg:https://lux-mundi.org/wp-content/uploads/2025/11/artworks2.jpg
END:VEVENT
BEGIN:VEVENT
DTSTART;TZID=Europe/Madrid:20260727T163000
DTEND;TZID=Europe/Madrid:20260727T180000
DTSTAMP:20260422T093521
CREATED:20260103T224428Z
LAST-MODIFIED:20260103T224516Z
UID:10000531-1785169800-1785175200@lux-mundi.org
SUMMARY:Monthly Movies
DESCRIPTION:Come and join us for a monthly afternoon featuring select classic movies from the golden era of Hollywood. \nTICKET  3€\nTIME: 16.30 H \nLocation: Lux Mundi – Avenida Moscatel\,1\,I\nEntrando por Calle Rioja (Torre del Mar) \n 
URL:https://lux-mundi.org/event/monthly-movies/2026-07-27/
LOCATION:Lux Mundi – Torre del Mar\, Avenida Moscatel\, 1 «I»\, C. Casa de la Viña\, Torre del Mar\, Málaga\, 29740\, Spain
CATEGORIES:For everyone
ATTACH;FMTTYPE=image/jpeg:https://lux-mundi.org/wp-content/uploads/2026/01/MovieClassicHollywoodMatinee.jpg
END:VEVENT
BEGIN:VEVENT
DTSTART;TZID=Europe/Madrid:20260726T110000
DTEND;TZID=Europe/Madrid:20260726T133000
DTSTAMP:20260422T093521
CREATED:20260103T225625Z
LAST-MODIFIED:20260103T225625Z
UID:10000875-1785063600-1785072600@lux-mundi.org
SUMMARY:Spanish Reformed Episcopal Church Church. St Barnabas
DESCRIPTION:
URL:https://lux-mundi.org/event/spanish-reformed-episcopal-church-church-st-barnabas/2026-07-26/
CATEGORIES:Church
END:VEVENT
BEGIN:VEVENT
DTSTART;TZID=Europe/Madrid:20260725T160000
DTEND;TZID=Europe/Madrid:20260725T173000
DTSTAMP:20260422T093521
CREATED:20260103T225319Z
LAST-MODIFIED:20260109T230826Z
UID:10000614-1784995200-1785000600@lux-mundi.org
SUMMARY:Roman Catholic Mass in English
DESCRIPTION:Please contact the centre for confirmation.
URL:https://lux-mundi.org/event/roman-catholic-mass-in-english/2026-07-25/
CATEGORIES:Mass
END:VEVENT
BEGIN:VEVENT
DTSTART;TZID=Europe/Madrid:20260724T110000
DTEND;TZID=Europe/Madrid:20260724T130000
DTSTAMP:20260422T093521
CREATED:20260103T223352Z
LAST-MODIFIED:20260103T223352Z
UID:10000292-1784890800-1784898000@lux-mundi.org
SUMMARY:Coffee Morning
DESCRIPTION:A Coffee with Everyone\nEvery Friday morning\, the centre opens its doors to share a cup of tea or coffee\, a refreshing drink\, friendly conversation\, and a slice of freshly baked homemade cake. \nIt’s an open invitation to friends\, visitors\, and supporters\, in a relaxed and welcoming atmosphere — the perfect setting to meet others\, make new friends\, and enjoy an easy-going morning together. \nYou can also: \nFind out about the centre’s activities\nPick up English-language newspapers\nBrowse our charity shop\nExplore the library \n  \n🌟 Start your weekend with joy\, flavour\, and good company — we look forward to seeing you!
URL:https://lux-mundi.org/event/coffee-morning/2026-07-24/
LOCATION:Lux Mundi – Torre del Mar\, Avenida Moscatel\, 1 «I»\, C. Casa de la Viña\, Torre del Mar\, Málaga\, 29740\, Spain
CATEGORIES:For everyone
ATTACH;FMTTYPE=image/jpeg:https://lux-mundi.org/wp-content/uploads/2016/04/Easte-Bazaar-Sue-5-e1460458543620.jpeg
END:VEVENT
BEGIN:VEVENT
DTSTART;TZID=Europe/Madrid:20260722T110000
DTEND;TZID=Europe/Madrid:20260722T130000
DTSTAMP:20260422T093521
CREATED:20260103T222511Z
LAST-MODIFIED:20260103T222909Z
UID:10000031-1784718000-1784725200@lux-mundi.org
SUMMARY:Creative Group: Art and Friendship
DESCRIPTION:Every Wednesday\, a group of people meet to paint\, knit\, and create in an atmosphere full of joy and companionship. Whether you enjoy oil painting\, watercolours\, pen and ink\, crafts\, or simply sharing a pleasant time together\, this space is for you. \nThere is no teacher and no strict rules — only the desire to enjoy\, learn from one another\, and let creativity flow in good company. \nBring your materials\, your talent (or your eagerness to discover it)\, and join this warm\, creative community.
URL:https://lux-mundi.org/event/creative-group-art-and-friendship/2026-07-22/
LOCATION:Lux Mundi – Torre del Mar\, Avenida Moscatel\, 1 «I»\, C. Casa de la Viña\, Torre del Mar\, Málaga\, 29740\, Spain
CATEGORIES:Workshop
ATTACH;FMTTYPE=image/jpeg:https://lux-mundi.org/wp-content/uploads/2025/11/artworks2.jpg
END:VEVENT
BEGIN:VEVENT
DTSTART;TZID=Europe/Madrid:20260719T110000
DTEND;TZID=Europe/Madrid:20260719T133000
DTSTAMP:20260422T093521
CREATED:20260103T225625Z
LAST-MODIFIED:20260103T225625Z
UID:10000874-1784458800-1784467800@lux-mundi.org
SUMMARY:Spanish Reformed Episcopal Church Church. St Barnabas
DESCRIPTION:
URL:https://lux-mundi.org/event/spanish-reformed-episcopal-church-church-st-barnabas/2026-07-19/
CATEGORIES:Church
END:VEVENT
BEGIN:VEVENT
DTSTART;TZID=Europe/Madrid:20260718T160000
DTEND;TZID=Europe/Madrid:20260718T173000
DTSTAMP:20260422T093521
CREATED:20260103T225319Z
LAST-MODIFIED:20260109T230826Z
UID:10000613-1784390400-1784395800@lux-mundi.org
SUMMARY:Roman Catholic Mass in English
DESCRIPTION:Please contact the centre for confirmation.
URL:https://lux-mundi.org/event/roman-catholic-mass-in-english/2026-07-18/
CATEGORIES:Mass
END:VEVENT
BEGIN:VEVENT
DTSTART;TZID=Europe/Madrid:20260717T110000
DTEND;TZID=Europe/Madrid:20260717T130000
DTSTAMP:20260422T093521
CREATED:20260103T223352Z
LAST-MODIFIED:20260103T223352Z
UID:10000291-1784286000-1784293200@lux-mundi.org
SUMMARY:Coffee Morning
DESCRIPTION:A Coffee with Everyone\nEvery Friday morning\, the centre opens its doors to share a cup of tea or coffee\, a refreshing drink\, friendly conversation\, and a slice of freshly baked homemade cake. \nIt’s an open invitation to friends\, visitors\, and supporters\, in a relaxed and welcoming atmosphere — the perfect setting to meet others\, make new friends\, and enjoy an easy-going morning together. \nYou can also: \nFind out about the centre’s activities\nPick up English-language newspapers\nBrowse our charity shop\nExplore the library \n  \n🌟 Start your weekend with joy\, flavour\, and good company — we look forward to seeing you!
URL:https://lux-mundi.org/event/coffee-morning/2026-07-17/
LOCATION:Lux Mundi – Torre del Mar\, Avenida Moscatel\, 1 «I»\, C. Casa de la Viña\, Torre del Mar\, Málaga\, 29740\, Spain
CATEGORIES:For everyone
ATTACH;FMTTYPE=image/jpeg:https://lux-mundi.org/wp-content/uploads/2016/04/Easte-Bazaar-Sue-5-e1460458543620.jpeg
END:VEVENT
BEGIN:VEVENT
DTSTART;TZID=Europe/Madrid:20260716T080000
DTEND;TZID=Europe/Madrid:20260716T170000
DTSTAMP:20260422T093521
CREATED:20260316T095907Z
LAST-MODIFIED:20260316T095907Z
UID:10001116-1784188800-1784221200@lux-mundi.org
SUMMARY:Estepona
DESCRIPTION:Stop for coffee in Arroyo de la Miel Arrival in Estepona at approximately 11:00. Free time to see the street art\, visit the Orchid house\, enjoy the Plaza de Flores\, do some shopping\, stroll along the beautiful paseo etc. Departure from Estepona at 17:30 to return to Torre del Mar. \nAlgarrobo – 08:30 ;Caleta – 08:35; Torre del Mar – 08:45 \n25€ Friends of LUX MUNDI or 28€ \nIN CASE OF CANCELLATION 48 HOURS BEFORE THE TRIP\,THE COST IS NON REFUNDABLE.
URL:https://lux-mundi.org/event/estepona/
CATEGORIES:Day tours
ATTACH;FMTTYPE=image/jpeg:https://lux-mundi.org/wp-content/uploads/2026/03/event-estepona-june2026.jpeg
END:VEVENT
BEGIN:VEVENT
DTSTART;TZID=Europe/Madrid:20260715T110000
DTEND;TZID=Europe/Madrid:20260715T130000
DTSTAMP:20260422T093521
CREATED:20260103T222511Z
LAST-MODIFIED:20260103T222909Z
UID:10000030-1784113200-1784120400@lux-mundi.org
SUMMARY:Creative Group: Art and Friendship
DESCRIPTION:Every Wednesday\, a group of people meet to paint\, knit\, and create in an atmosphere full of joy and companionship. Whether you enjoy oil painting\, watercolours\, pen and ink\, crafts\, or simply sharing a pleasant time together\, this space is for you. \nThere is no teacher and no strict rules — only the desire to enjoy\, learn from one another\, and let creativity flow in good company. \nBring your materials\, your talent (or your eagerness to discover it)\, and join this warm\, creative community.
URL:https://lux-mundi.org/event/creative-group-art-and-friendship/2026-07-15/
LOCATION:Lux Mundi – Torre del Mar\, Avenida Moscatel\, 1 «I»\, C. Casa de la Viña\, Torre del Mar\, Málaga\, 29740\, Spain
CATEGORIES:Workshop
ATTACH;FMTTYPE=image/jpeg:https://lux-mundi.org/wp-content/uploads/2025/11/artworks2.jpg
END:VEVENT
BEGIN:VEVENT
DTSTART;TZID=Europe/Madrid:20260712T110000
DTEND;TZID=Europe/Madrid:20260712T133000
DTSTAMP:20260422T093521
CREATED:20260103T225625Z
LAST-MODIFIED:20260103T225625Z
UID:10000873-1783854000-1783863000@lux-mundi.org
SUMMARY:Spanish Reformed Episcopal Church Church. St Barnabas
DESCRIPTION:
URL:https://lux-mundi.org/event/spanish-reformed-episcopal-church-church-st-barnabas/2026-07-12/
CATEGORIES:Church
END:VEVENT
BEGIN:VEVENT
DTSTART;TZID=Europe/Madrid:20260711T160000
DTEND;TZID=Europe/Madrid:20260711T173000
DTSTAMP:20260422T093521
CREATED:20260103T225319Z
LAST-MODIFIED:20260109T230826Z
UID:10000612-1783785600-1783791000@lux-mundi.org
SUMMARY:Roman Catholic Mass in English
DESCRIPTION:Please contact the centre for confirmation.
URL:https://lux-mundi.org/event/roman-catholic-mass-in-english/2026-07-11/
CATEGORIES:Mass
END:VEVENT
BEGIN:VEVENT
DTSTART;TZID=Europe/Madrid:20260710T110000
DTEND;TZID=Europe/Madrid:20260710T130000
DTSTAMP:20260422T093521
CREATED:20260103T223352Z
LAST-MODIFIED:20260103T223352Z
UID:10000290-1783681200-1783688400@lux-mundi.org
SUMMARY:Coffee Morning
DESCRIPTION:A Coffee with Everyone\nEvery Friday morning\, the centre opens its doors to share a cup of tea or coffee\, a refreshing drink\, friendly conversation\, and a slice of freshly baked homemade cake. \nIt’s an open invitation to friends\, visitors\, and supporters\, in a relaxed and welcoming atmosphere — the perfect setting to meet others\, make new friends\, and enjoy an easy-going morning together. \nYou can also: \nFind out about the centre’s activities\nPick up English-language newspapers\nBrowse our charity shop\nExplore the library \n  \n🌟 Start your weekend with joy\, flavour\, and good company — we look forward to seeing you!
URL:https://lux-mundi.org/event/coffee-morning/2026-07-10/
LOCATION:Lux Mundi – Torre del Mar\, Avenida Moscatel\, 1 «I»\, C. Casa de la Viña\, Torre del Mar\, Málaga\, 29740\, Spain
CATEGORIES:For everyone
ATTACH;FMTTYPE=image/jpeg:https://lux-mundi.org/wp-content/uploads/2016/04/Easte-Bazaar-Sue-5-e1460458543620.jpeg
END:VEVENT
BEGIN:VEVENT
DTSTART;TZID=Europe/Madrid:20260708T110000
DTEND;TZID=Europe/Madrid:20260708T130000
DTSTAMP:20260422T093521
CREATED:20260103T222511Z
LAST-MODIFIED:20260103T222909Z
UID:10000029-1783508400-1783515600@lux-mundi.org
SUMMARY:Creative Group: Art and Friendship
DESCRIPTION:Every Wednesday\, a group of people meet to paint\, knit\, and create in an atmosphere full of joy and companionship. Whether you enjoy oil painting\, watercolours\, pen and ink\, crafts\, or simply sharing a pleasant time together\, this space is for you. \nThere is no teacher and no strict rules — only the desire to enjoy\, learn from one another\, and let creativity flow in good company. \nBring your materials\, your talent (or your eagerness to discover it)\, and join this warm\, creative community.
URL:https://lux-mundi.org/event/creative-group-art-and-friendship/2026-07-08/
LOCATION:Lux Mundi – Torre del Mar\, Avenida Moscatel\, 1 «I»\, C. Casa de la Viña\, Torre del Mar\, Málaga\, 29740\, Spain
CATEGORIES:Workshop
ATTACH;FMTTYPE=image/jpeg:https://lux-mundi.org/wp-content/uploads/2025/11/artworks2.jpg
END:VEVENT
BEGIN:VEVENT
DTSTART;TZID=Europe/Madrid:20260705T110000
DTEND;TZID=Europe/Madrid:20260705T133000
DTSTAMP:20260422T093521
CREATED:20260103T225625Z
LAST-MODIFIED:20260103T225625Z
UID:10000872-1783249200-1783258200@lux-mundi.org
SUMMARY:Spanish Reformed Episcopal Church Church. St Barnabas
DESCRIPTION:
URL:https://lux-mundi.org/event/spanish-reformed-episcopal-church-church-st-barnabas/2026-07-05/
CATEGORIES:Church
END:VEVENT
BEGIN:VEVENT
DTSTART;TZID=Europe/Madrid:20260704T160000
DTEND;TZID=Europe/Madrid:20260704T173000
DTSTAMP:20260422T093521
CREATED:20260103T225319Z
LAST-MODIFIED:20260109T230826Z
UID:10000611-1783180800-1783186200@lux-mundi.org
SUMMARY:Roman Catholic Mass in English
DESCRIPTION:Please contact the centre for confirmation.
URL:https://lux-mundi.org/event/roman-catholic-mass-in-english/2026-07-04/
CATEGORIES:Mass
END:VEVENT
BEGIN:VEVENT
DTSTART;TZID=Europe/Madrid:20260703T110000
DTEND;TZID=Europe/Madrid:20260703T130000
DTSTAMP:20260422T093521
CREATED:20260103T223352Z
LAST-MODIFIED:20260103T223352Z
UID:10000289-1783076400-1783083600@lux-mundi.org
SUMMARY:Coffee Morning
DESCRIPTION:A Coffee with Everyone\nEvery Friday morning\, the centre opens its doors to share a cup of tea or coffee\, a refreshing drink\, friendly conversation\, and a slice of freshly baked homemade cake. \nIt’s an open invitation to friends\, visitors\, and supporters\, in a relaxed and welcoming atmosphere — the perfect setting to meet others\, make new friends\, and enjoy an easy-going morning together. \nYou can also: \nFind out about the centre’s activities\nPick up English-language newspapers\nBrowse our charity shop\nExplore the library \n  \n🌟 Start your weekend with joy\, flavour\, and good company — we look forward to seeing you!
URL:https://lux-mundi.org/event/coffee-morning/2026-07-03/
LOCATION:Lux Mundi – Torre del Mar\, Avenida Moscatel\, 1 «I»\, C. Casa de la Viña\, Torre del Mar\, Málaga\, 29740\, Spain
CATEGORIES:For everyone
ATTACH;FMTTYPE=image/jpeg:https://lux-mundi.org/wp-content/uploads/2016/04/Easte-Bazaar-Sue-5-e1460458543620.jpeg
END:VEVENT
BEGIN:VEVENT
DTSTART;TZID=Europe/Madrid:20260701T110000
DTEND;TZID=Europe/Madrid:20260701T130000
DTSTAMP:20260422T093521
CREATED:20260103T222511Z
LAST-MODIFIED:20260103T222909Z
UID:10000028-1782903600-1782910800@lux-mundi.org
SUMMARY:Creative Group: Art and Friendship
DESCRIPTION:Every Wednesday\, a group of people meet to paint\, knit\, and create in an atmosphere full of joy and companionship. Whether you enjoy oil painting\, watercolours\, pen and ink\, crafts\, or simply sharing a pleasant time together\, this space is for you. \nThere is no teacher and no strict rules — only the desire to enjoy\, learn from one another\, and let creativity flow in good company. \nBring your materials\, your talent (or your eagerness to discover it)\, and join this warm\, creative community.
URL:https://lux-mundi.org/event/creative-group-art-and-friendship/2026-07-01/
LOCATION:Lux Mundi – Torre del Mar\, Avenida Moscatel\, 1 «I»\, C. Casa de la Viña\, Torre del Mar\, Málaga\, 29740\, Spain
CATEGORIES:Workshop
ATTACH;FMTTYPE=image/jpeg:https://lux-mundi.org/wp-content/uploads/2025/11/artworks2.jpg
END:VEVENT
BEGIN:VEVENT
DTSTART;TZID=Europe/Madrid:20260628T110000
DTEND;TZID=Europe/Madrid:20260628T133000
DTSTAMP:20260422T093521
CREATED:20260103T225625Z
LAST-MODIFIED:20260103T225625Z
UID:10000871-1782644400-1782653400@lux-mundi.org
SUMMARY:Spanish Reformed Episcopal Church Church. St Barnabas
DESCRIPTION:
URL:https://lux-mundi.org/event/spanish-reformed-episcopal-church-church-st-barnabas/2026-06-28/
CATEGORIES:Church
END:VEVENT
BEGIN:VEVENT
DTSTART;TZID=Europe/Madrid:20260627T160000
DTEND;TZID=Europe/Madrid:20260627T173000
DTSTAMP:20260422T093521
CREATED:20260103T225319Z
LAST-MODIFIED:20260109T230826Z
UID:10000610-1782576000-1782581400@lux-mundi.org
SUMMARY:Roman Catholic Mass in English
DESCRIPTION:Please contact the centre for confirmation.
URL:https://lux-mundi.org/event/roman-catholic-mass-in-english/2026-06-27/
CATEGORIES:Mass
END:VEVENT
BEGIN:VEVENT
DTSTART;TZID=Europe/Madrid:20260626T110000
DTEND;TZID=Europe/Madrid:20260626T130000
DTSTAMP:20260422T093521
CREATED:20260103T223352Z
LAST-MODIFIED:20260103T223352Z
UID:10000288-1782471600-1782478800@lux-mundi.org
SUMMARY:Coffee Morning
DESCRIPTION:A Coffee with Everyone\nEvery Friday morning\, the centre opens its doors to share a cup of tea or coffee\, a refreshing drink\, friendly conversation\, and a slice of freshly baked homemade cake. \nIt’s an open invitation to friends\, visitors\, and supporters\, in a relaxed and welcoming atmosphere — the perfect setting to meet others\, make new friends\, and enjoy an easy-going morning together. \nYou can also: \nFind out about the centre’s activities\nPick up English-language newspapers\nBrowse our charity shop\nExplore the library \n  \n🌟 Start your weekend with joy\, flavour\, and good company — we look forward to seeing you!
URL:https://lux-mundi.org/event/coffee-morning/2026-06-26/
LOCATION:Lux Mundi – Torre del Mar\, Avenida Moscatel\, 1 «I»\, C. Casa de la Viña\, Torre del Mar\, Málaga\, 29740\, Spain
CATEGORIES:For everyone
ATTACH;FMTTYPE=image/jpeg:https://lux-mundi.org/wp-content/uploads/2016/04/Easte-Bazaar-Sue-5-e1460458543620.jpeg
END:VEVENT
BEGIN:VEVENT
DTSTART;VALUE=DATE:20260625
DTEND;VALUE=DATE:20260626
DTSTAMP:20260422T093521
CREATED:20260316T095731Z
LAST-MODIFIED:20260316T095731Z
UID:10001115-1782345600-1782431999@lux-mundi.org
SUMMARY:Alhama de Granada and Río Frío
DESCRIPTION:Free time for coffee.\nAt 11:00 am: Guided tour in English (Duration: one and a half hours\, maximum 2 hours).\nDeparture at 1:15 pm (13:15h) towards Río Frío.\nArrival at Río Frío at approximately 2:15 pm (14:15h).\nFree time for lunch and a stroll.\nDeparture at 5:00 pm (17:00h) for Torre del Mar.\nArrival at Torre del Mar at approximately 6:15 pm (18:15h). \nPick-up points and times\nAlgarrobo – 09:00 | Caleta – 09:05 | Torre del Mar – 09:15 \nFee: 38 EUR\nFee for LuxMundi Amigos: 35 EUR \nIN CASE OF CANCELLATION WITHIN 48 HOURS BEFORE THE TRIP\, THERE WILL BE NO REFUND OF THE AMOUNT PAID.
URL:https://lux-mundi.org/event/alhama-de-granada-and-rio-frio/
CATEGORIES:Day tours
ATTACH;FMTTYPE=image/jpeg:https://lux-mundi.org/wp-content/uploads/2026/03/event-Alhama-Granada-July2026.jpeg
END:VEVENT
BEGIN:VEVENT
DTSTART;TZID=Europe/Madrid:20260624T110000
DTEND;TZID=Europe/Madrid:20260624T130000
DTSTAMP:20260422T093521
CREATED:20260103T222511Z
LAST-MODIFIED:20260103T222909Z
UID:10000027-1782298800-1782306000@lux-mundi.org
SUMMARY:Creative Group: Art and Friendship
DESCRIPTION:Every Wednesday\, a group of people meet to paint\, knit\, and create in an atmosphere full of joy and companionship. Whether you enjoy oil painting\, watercolours\, pen and ink\, crafts\, or simply sharing a pleasant time together\, this space is for you. \nThere is no teacher and no strict rules — only the desire to enjoy\, learn from one another\, and let creativity flow in good company. \nBring your materials\, your talent (or your eagerness to discover it)\, and join this warm\, creative community.
URL:https://lux-mundi.org/event/creative-group-art-and-friendship/2026-06-24/
LOCATION:Lux Mundi – Torre del Mar\, Avenida Moscatel\, 1 «I»\, C. Casa de la Viña\, Torre del Mar\, Málaga\, 29740\, Spain
CATEGORIES:Workshop
ATTACH;FMTTYPE=image/jpeg:https://lux-mundi.org/wp-content/uploads/2025/11/artworks2.jpg
END:VEVENT
BEGIN:VEVENT
DTSTART;TZID=Europe/Madrid:20260622T163000
DTEND;TZID=Europe/Madrid:20260622T180000
DTSTAMP:20260422T093521
CREATED:20260103T224428Z
LAST-MODIFIED:20260103T224516Z
UID:10000530-1782145800-1782151200@lux-mundi.org
SUMMARY:Monthly Movies
DESCRIPTION:Come and join us for a monthly afternoon featuring select classic movies from the golden era of Hollywood. \nTICKET  3€\nTIME: 16.30 H \nLocation: Lux Mundi – Avenida Moscatel\,1\,I\nEntrando por Calle Rioja (Torre del Mar) \n 
URL:https://lux-mundi.org/event/monthly-movies/2026-06-22/
LOCATION:Lux Mundi – Torre del Mar\, Avenida Moscatel\, 1 «I»\, C. Casa de la Viña\, Torre del Mar\, Málaga\, 29740\, Spain
CATEGORIES:For everyone
ATTACH;FMTTYPE=image/jpeg:https://lux-mundi.org/wp-content/uploads/2026/01/MovieClassicHollywoodMatinee.jpg
END:VEVENT
BEGIN:VEVENT
DTSTART;TZID=Europe/Madrid:20260621T110000
DTEND;TZID=Europe/Madrid:20260621T133000
DTSTAMP:20260422T093521
CREATED:20260103T225625Z
LAST-MODIFIED:20260103T225625Z
UID:10000870-1782039600-1782048600@lux-mundi.org
SUMMARY:Spanish Reformed Episcopal Church Church. St Barnabas
DESCRIPTION:
URL:https://lux-mundi.org/event/spanish-reformed-episcopal-church-church-st-barnabas/2026-06-21/
CATEGORIES:Church
END:VEVENT
BEGIN:VEVENT
DTSTART;TZID=Europe/Madrid:20260620T160000
DTEND;TZID=Europe/Madrid:20260620T173000
DTSTAMP:20260422T093521
CREATED:20260103T225319Z
LAST-MODIFIED:20260109T230826Z
UID:10000609-1781971200-1781976600@lux-mundi.org
SUMMARY:Roman Catholic Mass in English
DESCRIPTION:Please contact the centre for confirmation.
URL:https://lux-mundi.org/event/roman-catholic-mass-in-english/2026-06-20/
CATEGORIES:Mass
END:VEVENT
BEGIN:VEVENT
DTSTART;TZID=Europe/Madrid:20260619T110000
DTEND;TZID=Europe/Madrid:20260619T130000
DTSTAMP:20260422T093521
CREATED:20260103T223352Z
LAST-MODIFIED:20260103T223352Z
UID:10000287-1781866800-1781874000@lux-mundi.org
SUMMARY:Coffee Morning
DESCRIPTION:A Coffee with Everyone\nEvery Friday morning\, the centre opens its doors to share a cup of tea or coffee\, a refreshing drink\, friendly conversation\, and a slice of freshly baked homemade cake. \nIt’s an open invitation to friends\, visitors\, and supporters\, in a relaxed and welcoming atmosphere — the perfect setting to meet others\, make new friends\, and enjoy an easy-going morning together. \nYou can also: \nFind out about the centre’s activities\nPick up English-language newspapers\nBrowse our charity shop\nExplore the library \n  \n🌟 Start your weekend with joy\, flavour\, and good company — we look forward to seeing you!
URL:https://lux-mundi.org/event/coffee-morning/2026-06-19/
LOCATION:Lux Mundi – Torre del Mar\, Avenida Moscatel\, 1 «I»\, C. Casa de la Viña\, Torre del Mar\, Málaga\, 29740\, Spain
CATEGORIES:For everyone
ATTACH;FMTTYPE=image/jpeg:https://lux-mundi.org/wp-content/uploads/2016/04/Easte-Bazaar-Sue-5-e1460458543620.jpeg
END:VEVENT
BEGIN:VEVENT
DTSTART;TZID=Europe/Madrid:20260617T110000
DTEND;TZID=Europe/Madrid:20260617T130000
DTSTAMP:20260422T093521
CREATED:20260103T222511Z
LAST-MODIFIED:20260103T222909Z
UID:10000026-1781694000-1781701200@lux-mundi.org
SUMMARY:Creative Group: Art and Friendship
DESCRIPTION:Every Wednesday\, a group of people meet to paint\, knit\, and create in an atmosphere full of joy and companionship. Whether you enjoy oil painting\, watercolours\, pen and ink\, crafts\, or simply sharing a pleasant time together\, this space is for you. \nThere is no teacher and no strict rules — only the desire to enjoy\, learn from one another\, and let creativity flow in good company. \nBring your materials\, your talent (or your eagerness to discover it)\, and join this warm\, creative community.
URL:https://lux-mundi.org/event/creative-group-art-and-friendship/2026-06-17/
LOCATION:Lux Mundi – Torre del Mar\, Avenida Moscatel\, 1 «I»\, C. Casa de la Viña\, Torre del Mar\, Málaga\, 29740\, Spain
CATEGORIES:Workshop
ATTACH;FMTTYPE=image/jpeg:https://lux-mundi.org/wp-content/uploads/2025/11/artworks2.jpg
END:VEVENT
END:VCALENDAR