BEGIN:VCALENDAR
VERSION:2.0
PRODID:-//Lux Mundi - ECPv6.15.16//NONSGML v1.0//EN
CALSCALE:GREGORIAN
METHOD:PUBLISH
X-WR-CALNAME:Lux Mundi
X-ORIGINAL-URL:https://lux-mundi.org
X-WR-CALDESC:Events for Lux Mundi
REFRESH-INTERVAL;VALUE=DURATION:PT1H
X-Robots-Tag:noindex
X-PUBLISHED-TTL:PT1H
BEGIN:VTIMEZONE
TZID:Europe/Madrid
BEGIN:DAYLIGHT
TZOFFSETFROM:+0100
TZOFFSETTO:+0200
TZNAME:CEST
DTSTART:20270328T010000
END:DAYLIGHT
BEGIN:STANDARD
TZOFFSETFROM:+0200
TZOFFSETTO:+0100
TZNAME:CET
DTSTART:20271031T010000
END:STANDARD
BEGIN:DAYLIGHT
TZOFFSETFROM:+0100
TZOFFSETTO:+0200
TZNAME:CEST
DTSTART:20280326T010000
END:DAYLIGHT
BEGIN:STANDARD
TZOFFSETFROM:+0200
TZOFFSETTO:+0100
TZNAME:CET
DTSTART:20281029T010000
END:STANDARD
BEGIN:DAYLIGHT
TZOFFSETFROM:+0100
TZOFFSETTO:+0200
TZNAME:CEST
DTSTART:20290325T010000
END:DAYLIGHT
BEGIN:STANDARD
TZOFFSETFROM:+0200
TZOFFSETTO:+0100
TZNAME:CET
DTSTART:20291028T010000
END:STANDARD
BEGIN:DAYLIGHT
TZOFFSETFROM:+0100
TZOFFSETTO:+0200
TZNAME:CEST
DTSTART:20300331T010000
END:DAYLIGHT
BEGIN:STANDARD
TZOFFSETFROM:+0200
TZOFFSETTO:+0100
TZNAME:CET
DTSTART:20301027T010000
END:STANDARD
END:VTIMEZONE
BEGIN:VEVENT
DTSTART;TZID=Europe/Madrid:20280819T160000
DTEND;TZID=Europe/Madrid:20280819T173000
DTSTAMP:20260422T081356
CREATED:20260103T225319Z
LAST-MODIFIED:20260109T230826Z
UID:10000722-1850313600-1850319000@lux-mundi.org
SUMMARY:Roman Catholic Mass in English
DESCRIPTION:Please contact the centre for confirmation.
URL:https://lux-mundi.org/event/roman-catholic-mass-in-english/2028-08-19/
CATEGORIES:Mass
END:VEVENT
BEGIN:VEVENT
DTSTART;TZID=Europe/Madrid:20280826T160000
DTEND;TZID=Europe/Madrid:20280826T173000
DTSTAMP:20260422T081356
CREATED:20260103T225319Z
LAST-MODIFIED:20260109T230826Z
UID:10000723-1850918400-1850923800@lux-mundi.org
SUMMARY:Roman Catholic Mass in English
DESCRIPTION:Please contact the centre for confirmation.
URL:https://lux-mundi.org/event/roman-catholic-mass-in-english/2028-08-26/
CATEGORIES:Mass
END:VEVENT
BEGIN:VEVENT
DTSTART;TZID=Europe/Madrid:20280902T160000
DTEND;TZID=Europe/Madrid:20280902T173000
DTSTAMP:20260422T081356
CREATED:20260103T225319Z
LAST-MODIFIED:20260109T230826Z
UID:10000724-1851523200-1851528600@lux-mundi.org
SUMMARY:Roman Catholic Mass in English
DESCRIPTION:Please contact the centre for confirmation.
URL:https://lux-mundi.org/event/roman-catholic-mass-in-english/2028-09-02/
CATEGORIES:Mass
END:VEVENT
BEGIN:VEVENT
DTSTART;TZID=Europe/Madrid:20280909T160000
DTEND;TZID=Europe/Madrid:20280909T173000
DTSTAMP:20260422T081356
CREATED:20260103T225319Z
LAST-MODIFIED:20260109T230826Z
UID:10000725-1852128000-1852133400@lux-mundi.org
SUMMARY:Roman Catholic Mass in English
DESCRIPTION:Please contact the centre for confirmation.
URL:https://lux-mundi.org/event/roman-catholic-mass-in-english/2028-09-09/
CATEGORIES:Mass
END:VEVENT
BEGIN:VEVENT
DTSTART;TZID=Europe/Madrid:20280916T160000
DTEND;TZID=Europe/Madrid:20280916T173000
DTSTAMP:20260422T081356
CREATED:20260103T225319Z
LAST-MODIFIED:20260109T230826Z
UID:10000726-1852732800-1852738200@lux-mundi.org
SUMMARY:Roman Catholic Mass in English
DESCRIPTION:Please contact the centre for confirmation.
URL:https://lux-mundi.org/event/roman-catholic-mass-in-english/2028-09-16/
CATEGORIES:Mass
END:VEVENT
BEGIN:VEVENT
DTSTART;TZID=Europe/Madrid:20280923T160000
DTEND;TZID=Europe/Madrid:20280923T173000
DTSTAMP:20260422T081356
CREATED:20260103T225319Z
LAST-MODIFIED:20260109T230826Z
UID:10000727-1853337600-1853343000@lux-mundi.org
SUMMARY:Roman Catholic Mass in English
DESCRIPTION:Please contact the centre for confirmation.
URL:https://lux-mundi.org/event/roman-catholic-mass-in-english/2028-09-23/
CATEGORIES:Mass
END:VEVENT
BEGIN:VEVENT
DTSTART;TZID=Europe/Madrid:20280930T160000
DTEND;TZID=Europe/Madrid:20280930T173000
DTSTAMP:20260422T081356
CREATED:20260103T225319Z
LAST-MODIFIED:20260109T230826Z
UID:10000728-1853942400-1853947800@lux-mundi.org
SUMMARY:Roman Catholic Mass in English
DESCRIPTION:Please contact the centre for confirmation.
URL:https://lux-mundi.org/event/roman-catholic-mass-in-english/2028-09-30/
CATEGORIES:Mass
END:VEVENT
BEGIN:VEVENT
DTSTART;TZID=Europe/Madrid:20281007T160000
DTEND;TZID=Europe/Madrid:20281007T173000
DTSTAMP:20260422T081356
CREATED:20260103T225319Z
LAST-MODIFIED:20260109T230826Z
UID:10000729-1854547200-1854552600@lux-mundi.org
SUMMARY:Roman Catholic Mass in English
DESCRIPTION:Please contact the centre for confirmation.
URL:https://lux-mundi.org/event/roman-catholic-mass-in-english/2028-10-07/
CATEGORIES:Mass
END:VEVENT
BEGIN:VEVENT
DTSTART;TZID=Europe/Madrid:20281014T160000
DTEND;TZID=Europe/Madrid:20281014T173000
DTSTAMP:20260422T081356
CREATED:20260103T225319Z
LAST-MODIFIED:20260109T230826Z
UID:10000730-1855152000-1855157400@lux-mundi.org
SUMMARY:Roman Catholic Mass in English
DESCRIPTION:Please contact the centre for confirmation.
URL:https://lux-mundi.org/event/roman-catholic-mass-in-english/2028-10-14/
CATEGORIES:Mass
END:VEVENT
BEGIN:VEVENT
DTSTART;TZID=Europe/Madrid:20281021T160000
DTEND;TZID=Europe/Madrid:20281021T173000
DTSTAMP:20260422T081356
CREATED:20260103T225319Z
LAST-MODIFIED:20260109T230826Z
UID:10000731-1855756800-1855762200@lux-mundi.org
SUMMARY:Roman Catholic Mass in English
DESCRIPTION:Please contact the centre for confirmation.
URL:https://lux-mundi.org/event/roman-catholic-mass-in-english/2028-10-21/
CATEGORIES:Mass
END:VEVENT
BEGIN:VEVENT
DTSTART;TZID=Europe/Madrid:20281028T160000
DTEND;TZID=Europe/Madrid:20281028T173000
DTSTAMP:20260422T081356
CREATED:20260103T225319Z
LAST-MODIFIED:20260109T230826Z
UID:10000732-1856361600-1856367000@lux-mundi.org
SUMMARY:Roman Catholic Mass in English
DESCRIPTION:Please contact the centre for confirmation.
URL:https://lux-mundi.org/event/roman-catholic-mass-in-english/2028-10-28/
CATEGORIES:Mass
END:VEVENT
BEGIN:VEVENT
DTSTART;TZID=Europe/Madrid:20281104T160000
DTEND;TZID=Europe/Madrid:20281104T173000
DTSTAMP:20260422T081356
CREATED:20260103T225319Z
LAST-MODIFIED:20260109T230826Z
UID:10000733-1856966400-1856971800@lux-mundi.org
SUMMARY:Roman Catholic Mass in English
DESCRIPTION:Please contact the centre for confirmation.
URL:https://lux-mundi.org/event/roman-catholic-mass-in-english/2028-11-04/
CATEGORIES:Mass
END:VEVENT
BEGIN:VEVENT
DTSTART;TZID=Europe/Madrid:20281111T160000
DTEND;TZID=Europe/Madrid:20281111T173000
DTSTAMP:20260422T081356
CREATED:20260103T225319Z
LAST-MODIFIED:20260109T230826Z
UID:10000734-1857571200-1857576600@lux-mundi.org
SUMMARY:Roman Catholic Mass in English
DESCRIPTION:Please contact the centre for confirmation.
URL:https://lux-mundi.org/event/roman-catholic-mass-in-english/2028-11-11/
CATEGORIES:Mass
END:VEVENT
BEGIN:VEVENT
DTSTART;TZID=Europe/Madrid:20281118T160000
DTEND;TZID=Europe/Madrid:20281118T173000
DTSTAMP:20260422T081356
CREATED:20260103T225319Z
LAST-MODIFIED:20260109T230826Z
UID:10000735-1858176000-1858181400@lux-mundi.org
SUMMARY:Roman Catholic Mass in English
DESCRIPTION:Please contact the centre for confirmation.
URL:https://lux-mundi.org/event/roman-catholic-mass-in-english/2028-11-18/
CATEGORIES:Mass
END:VEVENT
BEGIN:VEVENT
DTSTART;TZID=Europe/Madrid:20281125T160000
DTEND;TZID=Europe/Madrid:20281125T173000
DTSTAMP:20260422T081356
CREATED:20260103T225319Z
LAST-MODIFIED:20260109T230826Z
UID:10000736-1858780800-1858786200@lux-mundi.org
SUMMARY:Roman Catholic Mass in English
DESCRIPTION:Please contact the centre for confirmation.
URL:https://lux-mundi.org/event/roman-catholic-mass-in-english/2028-11-25/
CATEGORIES:Mass
END:VEVENT
BEGIN:VEVENT
DTSTART;TZID=Europe/Madrid:20281202T160000
DTEND;TZID=Europe/Madrid:20281202T173000
DTSTAMP:20260422T081356
CREATED:20260103T225319Z
LAST-MODIFIED:20260109T230826Z
UID:10000737-1859385600-1859391000@lux-mundi.org
SUMMARY:Roman Catholic Mass in English
DESCRIPTION:Please contact the centre for confirmation.
URL:https://lux-mundi.org/event/roman-catholic-mass-in-english/2028-12-02/
CATEGORIES:Mass
END:VEVENT
BEGIN:VEVENT
DTSTART;TZID=Europe/Madrid:20281209T160000
DTEND;TZID=Europe/Madrid:20281209T173000
DTSTAMP:20260422T081356
CREATED:20260103T225319Z
LAST-MODIFIED:20260109T230826Z
UID:10000738-1859990400-1859995800@lux-mundi.org
SUMMARY:Roman Catholic Mass in English
DESCRIPTION:Please contact the centre for confirmation.
URL:https://lux-mundi.org/event/roman-catholic-mass-in-english/2028-12-09/
CATEGORIES:Mass
END:VEVENT
BEGIN:VEVENT
DTSTART;TZID=Europe/Madrid:20281216T160000
DTEND;TZID=Europe/Madrid:20281216T173000
DTSTAMP:20260422T081356
CREATED:20260103T225319Z
LAST-MODIFIED:20260109T230826Z
UID:10000739-1860595200-1860600600@lux-mundi.org
SUMMARY:Roman Catholic Mass in English
DESCRIPTION:Please contact the centre for confirmation.
URL:https://lux-mundi.org/event/roman-catholic-mass-in-english/2028-12-16/
CATEGORIES:Mass
END:VEVENT
BEGIN:VEVENT
DTSTART;TZID=Europe/Madrid:20281223T160000
DTEND;TZID=Europe/Madrid:20281223T173000
DTSTAMP:20260422T081356
CREATED:20260103T225319Z
LAST-MODIFIED:20260109T230826Z
UID:10000740-1861200000-1861205400@lux-mundi.org
SUMMARY:Roman Catholic Mass in English
DESCRIPTION:Please contact the centre for confirmation.
URL:https://lux-mundi.org/event/roman-catholic-mass-in-english/2028-12-23/
CATEGORIES:Mass
END:VEVENT
BEGIN:VEVENT
DTSTART;TZID=Europe/Madrid:20281230T160000
DTEND;TZID=Europe/Madrid:20281230T173000
DTSTAMP:20260422T081356
CREATED:20260103T225319Z
LAST-MODIFIED:20260109T230826Z
UID:10000741-1861804800-1861810200@lux-mundi.org
SUMMARY:Roman Catholic Mass in English
DESCRIPTION:Please contact the centre for confirmation.
URL:https://lux-mundi.org/event/roman-catholic-mass-in-english/2028-12-30/
CATEGORIES:Mass
END:VEVENT
BEGIN:VEVENT
DTSTART;TZID=Europe/Madrid:20290106T160000
DTEND;TZID=Europe/Madrid:20290106T173000
DTSTAMP:20260422T081356
CREATED:20260103T225319Z
LAST-MODIFIED:20260109T230826Z
UID:10000742-1862409600-1862415000@lux-mundi.org
SUMMARY:Roman Catholic Mass in English
DESCRIPTION:Please contact the centre for confirmation.
URL:https://lux-mundi.org/event/roman-catholic-mass-in-english/2029-01-06/
CATEGORIES:Mass
END:VEVENT
BEGIN:VEVENT
DTSTART;TZID=Europe/Madrid:20290113T160000
DTEND;TZID=Europe/Madrid:20290113T173000
DTSTAMP:20260422T081356
CREATED:20260103T225319Z
LAST-MODIFIED:20260109T230826Z
UID:10000743-1863014400-1863019800@lux-mundi.org
SUMMARY:Roman Catholic Mass in English
DESCRIPTION:Please contact the centre for confirmation.
URL:https://lux-mundi.org/event/roman-catholic-mass-in-english/2029-01-13/
CATEGORIES:Mass
END:VEVENT
BEGIN:VEVENT
DTSTART;TZID=Europe/Madrid:20290120T160000
DTEND;TZID=Europe/Madrid:20290120T173000
DTSTAMP:20260422T081356
CREATED:20260103T225319Z
LAST-MODIFIED:20260109T230826Z
UID:10000744-1863619200-1863624600@lux-mundi.org
SUMMARY:Roman Catholic Mass in English
DESCRIPTION:Please contact the centre for confirmation.
URL:https://lux-mundi.org/event/roman-catholic-mass-in-english/2029-01-20/
CATEGORIES:Mass
END:VEVENT
BEGIN:VEVENT
DTSTART;TZID=Europe/Madrid:20290127T160000
DTEND;TZID=Europe/Madrid:20290127T173000
DTSTAMP:20260422T081356
CREATED:20260103T225319Z
LAST-MODIFIED:20260109T230826Z
UID:10000745-1864224000-1864229400@lux-mundi.org
SUMMARY:Roman Catholic Mass in English
DESCRIPTION:Please contact the centre for confirmation.
URL:https://lux-mundi.org/event/roman-catholic-mass-in-english/2029-01-27/
CATEGORIES:Mass
END:VEVENT
BEGIN:VEVENT
DTSTART;TZID=Europe/Madrid:20290203T160000
DTEND;TZID=Europe/Madrid:20290203T173000
DTSTAMP:20260422T081356
CREATED:20260103T225319Z
LAST-MODIFIED:20260109T230826Z
UID:10000746-1864828800-1864834200@lux-mundi.org
SUMMARY:Roman Catholic Mass in English
DESCRIPTION:Please contact the centre for confirmation.
URL:https://lux-mundi.org/event/roman-catholic-mass-in-english/2029-02-03/
CATEGORIES:Mass
END:VEVENT
BEGIN:VEVENT
DTSTART;TZID=Europe/Madrid:20290210T160000
DTEND;TZID=Europe/Madrid:20290210T173000
DTSTAMP:20260422T081356
CREATED:20260103T225319Z
LAST-MODIFIED:20260109T230826Z
UID:10000747-1865433600-1865439000@lux-mundi.org
SUMMARY:Roman Catholic Mass in English
DESCRIPTION:Please contact the centre for confirmation.
URL:https://lux-mundi.org/event/roman-catholic-mass-in-english/2029-02-10/
CATEGORIES:Mass
END:VEVENT
BEGIN:VEVENT
DTSTART;TZID=Europe/Madrid:20290217T160000
DTEND;TZID=Europe/Madrid:20290217T173000
DTSTAMP:20260422T081356
CREATED:20260103T225319Z
LAST-MODIFIED:20260109T230826Z
UID:10000748-1866038400-1866043800@lux-mundi.org
SUMMARY:Roman Catholic Mass in English
DESCRIPTION:Please contact the centre for confirmation.
URL:https://lux-mundi.org/event/roman-catholic-mass-in-english/2029-02-17/
CATEGORIES:Mass
END:VEVENT
BEGIN:VEVENT
DTSTART;TZID=Europe/Madrid:20290224T160000
DTEND;TZID=Europe/Madrid:20290224T173000
DTSTAMP:20260422T081356
CREATED:20260103T225319Z
LAST-MODIFIED:20260109T230826Z
UID:10000749-1866643200-1866648600@lux-mundi.org
SUMMARY:Roman Catholic Mass in English
DESCRIPTION:Please contact the centre for confirmation.
URL:https://lux-mundi.org/event/roman-catholic-mass-in-english/2029-02-24/
CATEGORIES:Mass
END:VEVENT
BEGIN:VEVENT
DTSTART;TZID=Europe/Madrid:20290303T160000
DTEND;TZID=Europe/Madrid:20290303T173000
DTSTAMP:20260422T081356
CREATED:20260103T225319Z
LAST-MODIFIED:20260109T230826Z
UID:10000750-1867248000-1867253400@lux-mundi.org
SUMMARY:Roman Catholic Mass in English
DESCRIPTION:Please contact the centre for confirmation.
URL:https://lux-mundi.org/event/roman-catholic-mass-in-english/2029-03-03/
CATEGORIES:Mass
END:VEVENT
BEGIN:VEVENT
DTSTART;TZID=Europe/Madrid:20290310T160000
DTEND;TZID=Europe/Madrid:20290310T173000
DTSTAMP:20260422T081356
CREATED:20260103T225319Z
LAST-MODIFIED:20260109T230826Z
UID:10000751-1867852800-1867858200@lux-mundi.org
SUMMARY:Roman Catholic Mass in English
DESCRIPTION:Please contact the centre for confirmation.
URL:https://lux-mundi.org/event/roman-catholic-mass-in-english/2029-03-10/
CATEGORIES:Mass
END:VEVENT
END:VCALENDAR