BEGIN:VCALENDAR
VERSION:2.0
PRODID:-//Lux Mundi - ECPv6.15.16//NONSGML v1.0//EN
CALSCALE:GREGORIAN
METHOD:PUBLISH
X-WR-CALNAME:Lux Mundi
X-ORIGINAL-URL:https://lux-mundi.org
X-WR-CALDESC:Events for Lux Mundi
REFRESH-INTERVAL;VALUE=DURATION:PT1H
X-Robots-Tag:noindex
X-PUBLISHED-TTL:PT1H
BEGIN:VTIMEZONE
TZID:Europe/Madrid
BEGIN:DAYLIGHT
TZOFFSETFROM:+0100
TZOFFSETTO:+0200
TZNAME:CEST
DTSTART:20260329T010000
END:DAYLIGHT
BEGIN:STANDARD
TZOFFSETFROM:+0200
TZOFFSETTO:+0100
TZNAME:CET
DTSTART:20261025T010000
END:STANDARD
BEGIN:DAYLIGHT
TZOFFSETFROM:+0100
TZOFFSETTO:+0200
TZNAME:CEST
DTSTART:20270328T010000
END:DAYLIGHT
BEGIN:STANDARD
TZOFFSETFROM:+0200
TZOFFSETTO:+0100
TZNAME:CET
DTSTART:20271031T010000
END:STANDARD
BEGIN:DAYLIGHT
TZOFFSETFROM:+0100
TZOFFSETTO:+0200
TZNAME:CEST
DTSTART:20280326T010000
END:DAYLIGHT
BEGIN:STANDARD
TZOFFSETFROM:+0200
TZOFFSETTO:+0100
TZNAME:CET
DTSTART:20281029T010000
END:STANDARD
END:VTIMEZONE
BEGIN:VEVENT
DTSTART;TZID=Europe/Madrid:20270529T160000
DTEND;TZID=Europe/Madrid:20270529T173000
DTSTAMP:20260422T065359
CREATED:20260103T225319Z
LAST-MODIFIED:20260109T230826Z
UID:10000658-1811606400-1811611800@lux-mundi.org
SUMMARY:Roman Catholic Mass in English
DESCRIPTION:Please contact the centre for confirmation.
URL:https://lux-mundi.org/event/roman-catholic-mass-in-english/2027-05-29/
CATEGORIES:Mass
END:VEVENT
BEGIN:VEVENT
DTSTART;TZID=Europe/Madrid:20270605T160000
DTEND;TZID=Europe/Madrid:20270605T173000
DTSTAMP:20260422T065359
CREATED:20260103T225319Z
LAST-MODIFIED:20260109T230826Z
UID:10000659-1812211200-1812216600@lux-mundi.org
SUMMARY:Roman Catholic Mass in English
DESCRIPTION:Please contact the centre for confirmation.
URL:https://lux-mundi.org/event/roman-catholic-mass-in-english/2027-06-05/
CATEGORIES:Mass
END:VEVENT
BEGIN:VEVENT
DTSTART;TZID=Europe/Madrid:20270612T160000
DTEND;TZID=Europe/Madrid:20270612T173000
DTSTAMP:20260422T065359
CREATED:20260103T225319Z
LAST-MODIFIED:20260109T230826Z
UID:10000660-1812816000-1812821400@lux-mundi.org
SUMMARY:Roman Catholic Mass in English
DESCRIPTION:Please contact the centre for confirmation.
URL:https://lux-mundi.org/event/roman-catholic-mass-in-english/2027-06-12/
CATEGORIES:Mass
END:VEVENT
BEGIN:VEVENT
DTSTART;TZID=Europe/Madrid:20270619T160000
DTEND;TZID=Europe/Madrid:20270619T173000
DTSTAMP:20260422T065359
CREATED:20260103T225319Z
LAST-MODIFIED:20260109T230826Z
UID:10000661-1813420800-1813426200@lux-mundi.org
SUMMARY:Roman Catholic Mass in English
DESCRIPTION:Please contact the centre for confirmation.
URL:https://lux-mundi.org/event/roman-catholic-mass-in-english/2027-06-19/
CATEGORIES:Mass
END:VEVENT
BEGIN:VEVENT
DTSTART;TZID=Europe/Madrid:20270626T160000
DTEND;TZID=Europe/Madrid:20270626T173000
DTSTAMP:20260422T065359
CREATED:20260103T225319Z
LAST-MODIFIED:20260109T230826Z
UID:10000662-1814025600-1814031000@lux-mundi.org
SUMMARY:Roman Catholic Mass in English
DESCRIPTION:Please contact the centre for confirmation.
URL:https://lux-mundi.org/event/roman-catholic-mass-in-english/2027-06-26/
CATEGORIES:Mass
END:VEVENT
BEGIN:VEVENT
DTSTART;TZID=Europe/Madrid:20270703T160000
DTEND;TZID=Europe/Madrid:20270703T173000
DTSTAMP:20260422T065359
CREATED:20260103T225319Z
LAST-MODIFIED:20260109T230826Z
UID:10000663-1814630400-1814635800@lux-mundi.org
SUMMARY:Roman Catholic Mass in English
DESCRIPTION:Please contact the centre for confirmation.
URL:https://lux-mundi.org/event/roman-catholic-mass-in-english/2027-07-03/
CATEGORIES:Mass
END:VEVENT
BEGIN:VEVENT
DTSTART;TZID=Europe/Madrid:20270710T160000
DTEND;TZID=Europe/Madrid:20270710T173000
DTSTAMP:20260422T065359
CREATED:20260103T225319Z
LAST-MODIFIED:20260109T230826Z
UID:10000664-1815235200-1815240600@lux-mundi.org
SUMMARY:Roman Catholic Mass in English
DESCRIPTION:Please contact the centre for confirmation.
URL:https://lux-mundi.org/event/roman-catholic-mass-in-english/2027-07-10/
CATEGORIES:Mass
END:VEVENT
BEGIN:VEVENT
DTSTART;TZID=Europe/Madrid:20270717T160000
DTEND;TZID=Europe/Madrid:20270717T173000
DTSTAMP:20260422T065359
CREATED:20260103T225319Z
LAST-MODIFIED:20260109T230826Z
UID:10000665-1815840000-1815845400@lux-mundi.org
SUMMARY:Roman Catholic Mass in English
DESCRIPTION:Please contact the centre for confirmation.
URL:https://lux-mundi.org/event/roman-catholic-mass-in-english/2027-07-17/
CATEGORIES:Mass
END:VEVENT
BEGIN:VEVENT
DTSTART;TZID=Europe/Madrid:20270724T160000
DTEND;TZID=Europe/Madrid:20270724T173000
DTSTAMP:20260422T065359
CREATED:20260103T225319Z
LAST-MODIFIED:20260109T230826Z
UID:10000666-1816444800-1816450200@lux-mundi.org
SUMMARY:Roman Catholic Mass in English
DESCRIPTION:Please contact the centre for confirmation.
URL:https://lux-mundi.org/event/roman-catholic-mass-in-english/2027-07-24/
CATEGORIES:Mass
END:VEVENT
BEGIN:VEVENT
DTSTART;TZID=Europe/Madrid:20270731T160000
DTEND;TZID=Europe/Madrid:20270731T173000
DTSTAMP:20260422T065359
CREATED:20260103T225319Z
LAST-MODIFIED:20260109T230826Z
UID:10000667-1817049600-1817055000@lux-mundi.org
SUMMARY:Roman Catholic Mass in English
DESCRIPTION:Please contact the centre for confirmation.
URL:https://lux-mundi.org/event/roman-catholic-mass-in-english/2027-07-31/
CATEGORIES:Mass
END:VEVENT
BEGIN:VEVENT
DTSTART;TZID=Europe/Madrid:20270807T160000
DTEND;TZID=Europe/Madrid:20270807T173000
DTSTAMP:20260422T065359
CREATED:20260103T225319Z
LAST-MODIFIED:20260109T230826Z
UID:10000668-1817654400-1817659800@lux-mundi.org
SUMMARY:Roman Catholic Mass in English
DESCRIPTION:Please contact the centre for confirmation.
URL:https://lux-mundi.org/event/roman-catholic-mass-in-english/2027-08-07/
CATEGORIES:Mass
END:VEVENT
BEGIN:VEVENT
DTSTART;TZID=Europe/Madrid:20270814T160000
DTEND;TZID=Europe/Madrid:20270814T173000
DTSTAMP:20260422T065359
CREATED:20260103T225319Z
LAST-MODIFIED:20260109T230826Z
UID:10000669-1818259200-1818264600@lux-mundi.org
SUMMARY:Roman Catholic Mass in English
DESCRIPTION:Please contact the centre for confirmation.
URL:https://lux-mundi.org/event/roman-catholic-mass-in-english/2027-08-14/
CATEGORIES:Mass
END:VEVENT
BEGIN:VEVENT
DTSTART;TZID=Europe/Madrid:20270821T160000
DTEND;TZID=Europe/Madrid:20270821T173000
DTSTAMP:20260422T065359
CREATED:20260103T225319Z
LAST-MODIFIED:20260109T230826Z
UID:10000670-1818864000-1818869400@lux-mundi.org
SUMMARY:Roman Catholic Mass in English
DESCRIPTION:Please contact the centre for confirmation.
URL:https://lux-mundi.org/event/roman-catholic-mass-in-english/2027-08-21/
CATEGORIES:Mass
END:VEVENT
BEGIN:VEVENT
DTSTART;TZID=Europe/Madrid:20270828T160000
DTEND;TZID=Europe/Madrid:20270828T173000
DTSTAMP:20260422T065359
CREATED:20260103T225319Z
LAST-MODIFIED:20260109T230826Z
UID:10000671-1819468800-1819474200@lux-mundi.org
SUMMARY:Roman Catholic Mass in English
DESCRIPTION:Please contact the centre for confirmation.
URL:https://lux-mundi.org/event/roman-catholic-mass-in-english/2027-08-28/
CATEGORIES:Mass
END:VEVENT
BEGIN:VEVENT
DTSTART;TZID=Europe/Madrid:20270904T160000
DTEND;TZID=Europe/Madrid:20270904T173000
DTSTAMP:20260422T065359
CREATED:20260103T225319Z
LAST-MODIFIED:20260109T230826Z
UID:10000672-1820073600-1820079000@lux-mundi.org
SUMMARY:Roman Catholic Mass in English
DESCRIPTION:Please contact the centre for confirmation.
URL:https://lux-mundi.org/event/roman-catholic-mass-in-english/2027-09-04/
CATEGORIES:Mass
END:VEVENT
BEGIN:VEVENT
DTSTART;TZID=Europe/Madrid:20270911T160000
DTEND;TZID=Europe/Madrid:20270911T173000
DTSTAMP:20260422T065359
CREATED:20260103T225319Z
LAST-MODIFIED:20260109T230826Z
UID:10000673-1820678400-1820683800@lux-mundi.org
SUMMARY:Roman Catholic Mass in English
DESCRIPTION:Please contact the centre for confirmation.
URL:https://lux-mundi.org/event/roman-catholic-mass-in-english/2027-09-11/
CATEGORIES:Mass
END:VEVENT
BEGIN:VEVENT
DTSTART;TZID=Europe/Madrid:20270918T160000
DTEND;TZID=Europe/Madrid:20270918T173000
DTSTAMP:20260422T065359
CREATED:20260103T225319Z
LAST-MODIFIED:20260109T230826Z
UID:10000674-1821283200-1821288600@lux-mundi.org
SUMMARY:Roman Catholic Mass in English
DESCRIPTION:Please contact the centre for confirmation.
URL:https://lux-mundi.org/event/roman-catholic-mass-in-english/2027-09-18/
CATEGORIES:Mass
END:VEVENT
BEGIN:VEVENT
DTSTART;TZID=Europe/Madrid:20270925T160000
DTEND;TZID=Europe/Madrid:20270925T173000
DTSTAMP:20260422T065359
CREATED:20260103T225319Z
LAST-MODIFIED:20260109T230826Z
UID:10000675-1821888000-1821893400@lux-mundi.org
SUMMARY:Roman Catholic Mass in English
DESCRIPTION:Please contact the centre for confirmation.
URL:https://lux-mundi.org/event/roman-catholic-mass-in-english/2027-09-25/
CATEGORIES:Mass
END:VEVENT
BEGIN:VEVENT
DTSTART;TZID=Europe/Madrid:20271002T160000
DTEND;TZID=Europe/Madrid:20271002T173000
DTSTAMP:20260422T065359
CREATED:20260103T225319Z
LAST-MODIFIED:20260109T230826Z
UID:10000676-1822492800-1822498200@lux-mundi.org
SUMMARY:Roman Catholic Mass in English
DESCRIPTION:Please contact the centre for confirmation.
URL:https://lux-mundi.org/event/roman-catholic-mass-in-english/2027-10-02/
CATEGORIES:Mass
END:VEVENT
BEGIN:VEVENT
DTSTART;TZID=Europe/Madrid:20271009T160000
DTEND;TZID=Europe/Madrid:20271009T173000
DTSTAMP:20260422T065359
CREATED:20260103T225319Z
LAST-MODIFIED:20260109T230826Z
UID:10000677-1823097600-1823103000@lux-mundi.org
SUMMARY:Roman Catholic Mass in English
DESCRIPTION:Please contact the centre for confirmation.
URL:https://lux-mundi.org/event/roman-catholic-mass-in-english/2027-10-09/
CATEGORIES:Mass
END:VEVENT
BEGIN:VEVENT
DTSTART;TZID=Europe/Madrid:20271016T160000
DTEND;TZID=Europe/Madrid:20271016T173000
DTSTAMP:20260422T065359
CREATED:20260103T225319Z
LAST-MODIFIED:20260109T230826Z
UID:10000678-1823702400-1823707800@lux-mundi.org
SUMMARY:Roman Catholic Mass in English
DESCRIPTION:Please contact the centre for confirmation.
URL:https://lux-mundi.org/event/roman-catholic-mass-in-english/2027-10-16/
CATEGORIES:Mass
END:VEVENT
BEGIN:VEVENT
DTSTART;TZID=Europe/Madrid:20271023T160000
DTEND;TZID=Europe/Madrid:20271023T173000
DTSTAMP:20260422T065359
CREATED:20260103T225319Z
LAST-MODIFIED:20260109T230826Z
UID:10000679-1824307200-1824312600@lux-mundi.org
SUMMARY:Roman Catholic Mass in English
DESCRIPTION:Please contact the centre for confirmation.
URL:https://lux-mundi.org/event/roman-catholic-mass-in-english/2027-10-23/
CATEGORIES:Mass
END:VEVENT
BEGIN:VEVENT
DTSTART;TZID=Europe/Madrid:20271030T160000
DTEND;TZID=Europe/Madrid:20271030T173000
DTSTAMP:20260422T065359
CREATED:20260103T225319Z
LAST-MODIFIED:20260109T230826Z
UID:10000680-1824912000-1824917400@lux-mundi.org
SUMMARY:Roman Catholic Mass in English
DESCRIPTION:Please contact the centre for confirmation.
URL:https://lux-mundi.org/event/roman-catholic-mass-in-english/2027-10-30/
CATEGORIES:Mass
END:VEVENT
BEGIN:VEVENT
DTSTART;TZID=Europe/Madrid:20271106T160000
DTEND;TZID=Europe/Madrid:20271106T173000
DTSTAMP:20260422T065359
CREATED:20260103T225319Z
LAST-MODIFIED:20260109T230826Z
UID:10000681-1825516800-1825522200@lux-mundi.org
SUMMARY:Roman Catholic Mass in English
DESCRIPTION:Please contact the centre for confirmation.
URL:https://lux-mundi.org/event/roman-catholic-mass-in-english/2027-11-06/
CATEGORIES:Mass
END:VEVENT
BEGIN:VEVENT
DTSTART;TZID=Europe/Madrid:20271113T160000
DTEND;TZID=Europe/Madrid:20271113T173000
DTSTAMP:20260422T065359
CREATED:20260103T225319Z
LAST-MODIFIED:20260109T230826Z
UID:10000682-1826121600-1826127000@lux-mundi.org
SUMMARY:Roman Catholic Mass in English
DESCRIPTION:Please contact the centre for confirmation.
URL:https://lux-mundi.org/event/roman-catholic-mass-in-english/2027-11-13/
CATEGORIES:Mass
END:VEVENT
BEGIN:VEVENT
DTSTART;TZID=Europe/Madrid:20271120T160000
DTEND;TZID=Europe/Madrid:20271120T173000
DTSTAMP:20260422T065359
CREATED:20260103T225319Z
LAST-MODIFIED:20260109T230826Z
UID:10000683-1826726400-1826731800@lux-mundi.org
SUMMARY:Roman Catholic Mass in English
DESCRIPTION:Please contact the centre for confirmation.
URL:https://lux-mundi.org/event/roman-catholic-mass-in-english/2027-11-20/
CATEGORIES:Mass
END:VEVENT
BEGIN:VEVENT
DTSTART;TZID=Europe/Madrid:20271127T160000
DTEND;TZID=Europe/Madrid:20271127T173000
DTSTAMP:20260422T065359
CREATED:20260103T225319Z
LAST-MODIFIED:20260109T230826Z
UID:10000684-1827331200-1827336600@lux-mundi.org
SUMMARY:Roman Catholic Mass in English
DESCRIPTION:Please contact the centre for confirmation.
URL:https://lux-mundi.org/event/roman-catholic-mass-in-english/2027-11-27/
CATEGORIES:Mass
END:VEVENT
BEGIN:VEVENT
DTSTART;TZID=Europe/Madrid:20271204T160000
DTEND;TZID=Europe/Madrid:20271204T173000
DTSTAMP:20260422T065359
CREATED:20260103T225319Z
LAST-MODIFIED:20260109T230826Z
UID:10000685-1827936000-1827941400@lux-mundi.org
SUMMARY:Roman Catholic Mass in English
DESCRIPTION:Please contact the centre for confirmation.
URL:https://lux-mundi.org/event/roman-catholic-mass-in-english/2027-12-04/
CATEGORIES:Mass
END:VEVENT
BEGIN:VEVENT
DTSTART;TZID=Europe/Madrid:20271211T160000
DTEND;TZID=Europe/Madrid:20271211T173000
DTSTAMP:20260422T065359
CREATED:20260103T225319Z
LAST-MODIFIED:20260109T230826Z
UID:10000686-1828540800-1828546200@lux-mundi.org
SUMMARY:Roman Catholic Mass in English
DESCRIPTION:Please contact the centre for confirmation.
URL:https://lux-mundi.org/event/roman-catholic-mass-in-english/2027-12-11/
CATEGORIES:Mass
END:VEVENT
BEGIN:VEVENT
DTSTART;TZID=Europe/Madrid:20271218T160000
DTEND;TZID=Europe/Madrid:20271218T173000
DTSTAMP:20260422T065359
CREATED:20260103T225319Z
LAST-MODIFIED:20260109T230826Z
UID:10000687-1829145600-1829151000@lux-mundi.org
SUMMARY:Roman Catholic Mass in English
DESCRIPTION:Please contact the centre for confirmation.
URL:https://lux-mundi.org/event/roman-catholic-mass-in-english/2027-12-18/
CATEGORIES:Mass
END:VEVENT
END:VCALENDAR