BEGIN:VCALENDAR
VERSION:2.0
PRODID:-//Lux Mundi - ECPv6.15.16//NONSGML v1.0//EN
CALSCALE:GREGORIAN
METHOD:PUBLISH
X-WR-CALNAME:Lux Mundi
X-ORIGINAL-URL:https://lux-mundi.org
X-WR-CALDESC:Events for Lux Mundi
REFRESH-INTERVAL;VALUE=DURATION:PT1H
X-Robots-Tag:noindex
X-PUBLISHED-TTL:PT1H
BEGIN:VTIMEZONE
TZID:Europe/Madrid
BEGIN:DAYLIGHT
TZOFFSETFROM:+0100
TZOFFSETTO:+0200
TZNAME:CEST
DTSTART:20260329T010000
END:DAYLIGHT
BEGIN:STANDARD
TZOFFSETFROM:+0200
TZOFFSETTO:+0100
TZNAME:CET
DTSTART:20261025T010000
END:STANDARD
BEGIN:DAYLIGHT
TZOFFSETFROM:+0100
TZOFFSETTO:+0200
TZNAME:CEST
DTSTART:20270328T010000
END:DAYLIGHT
BEGIN:STANDARD
TZOFFSETFROM:+0200
TZOFFSETTO:+0100
TZNAME:CET
DTSTART:20271031T010000
END:STANDARD
BEGIN:DAYLIGHT
TZOFFSETFROM:+0100
TZOFFSETTO:+0200
TZNAME:CEST
DTSTART:20280326T010000
END:DAYLIGHT
BEGIN:STANDARD
TZOFFSETFROM:+0200
TZOFFSETTO:+0100
TZNAME:CET
DTSTART:20281029T010000
END:STANDARD
END:VTIMEZONE
BEGIN:VEVENT
DTSTART;TZID=Europe/Madrid:20270102T160000
DTEND;TZID=Europe/Madrid:20270102T173000
DTSTAMP:20260422T053653
CREATED:20260103T225319Z
LAST-MODIFIED:20260109T230826Z
UID:10000637-1798905600-1798911000@lux-mundi.org
SUMMARY:Roman Catholic Mass in English
DESCRIPTION:Please contact the centre for confirmation.
URL:https://lux-mundi.org/event/roman-catholic-mass-in-english/2027-01-02/
CATEGORIES:Mass
END:VEVENT
BEGIN:VEVENT
DTSTART;TZID=Europe/Madrid:20270109T160000
DTEND;TZID=Europe/Madrid:20270109T173000
DTSTAMP:20260422T053653
CREATED:20260103T225319Z
LAST-MODIFIED:20260109T230826Z
UID:10000638-1799510400-1799515800@lux-mundi.org
SUMMARY:Roman Catholic Mass in English
DESCRIPTION:Please contact the centre for confirmation.
URL:https://lux-mundi.org/event/roman-catholic-mass-in-english/2027-01-09/
CATEGORIES:Mass
END:VEVENT
BEGIN:VEVENT
DTSTART;TZID=Europe/Madrid:20270116T160000
DTEND;TZID=Europe/Madrid:20270116T173000
DTSTAMP:20260422T053653
CREATED:20260103T225319Z
LAST-MODIFIED:20260109T230826Z
UID:10000639-1800115200-1800120600@lux-mundi.org
SUMMARY:Roman Catholic Mass in English
DESCRIPTION:Please contact the centre for confirmation.
URL:https://lux-mundi.org/event/roman-catholic-mass-in-english/2027-01-16/
CATEGORIES:Mass
END:VEVENT
BEGIN:VEVENT
DTSTART;TZID=Europe/Madrid:20270123T160000
DTEND;TZID=Europe/Madrid:20270123T173000
DTSTAMP:20260422T053653
CREATED:20260103T225319Z
LAST-MODIFIED:20260109T230826Z
UID:10000640-1800720000-1800725400@lux-mundi.org
SUMMARY:Roman Catholic Mass in English
DESCRIPTION:Please contact the centre for confirmation.
URL:https://lux-mundi.org/event/roman-catholic-mass-in-english/2027-01-23/
CATEGORIES:Mass
END:VEVENT
BEGIN:VEVENT
DTSTART;TZID=Europe/Madrid:20270130T160000
DTEND;TZID=Europe/Madrid:20270130T173000
DTSTAMP:20260422T053653
CREATED:20260103T225319Z
LAST-MODIFIED:20260109T230826Z
UID:10000641-1801324800-1801330200@lux-mundi.org
SUMMARY:Roman Catholic Mass in English
DESCRIPTION:Please contact the centre for confirmation.
URL:https://lux-mundi.org/event/roman-catholic-mass-in-english/2027-01-30/
CATEGORIES:Mass
END:VEVENT
BEGIN:VEVENT
DTSTART;TZID=Europe/Madrid:20270206T160000
DTEND;TZID=Europe/Madrid:20270206T173000
DTSTAMP:20260422T053653
CREATED:20260103T225319Z
LAST-MODIFIED:20260109T230826Z
UID:10000642-1801929600-1801935000@lux-mundi.org
SUMMARY:Roman Catholic Mass in English
DESCRIPTION:Please contact the centre for confirmation.
URL:https://lux-mundi.org/event/roman-catholic-mass-in-english/2027-02-06/
CATEGORIES:Mass
END:VEVENT
BEGIN:VEVENT
DTSTART;TZID=Europe/Madrid:20270213T160000
DTEND;TZID=Europe/Madrid:20270213T173000
DTSTAMP:20260422T053653
CREATED:20260103T225319Z
LAST-MODIFIED:20260109T230826Z
UID:10000643-1802534400-1802539800@lux-mundi.org
SUMMARY:Roman Catholic Mass in English
DESCRIPTION:Please contact the centre for confirmation.
URL:https://lux-mundi.org/event/roman-catholic-mass-in-english/2027-02-13/
CATEGORIES:Mass
END:VEVENT
BEGIN:VEVENT
DTSTART;TZID=Europe/Madrid:20270220T160000
DTEND;TZID=Europe/Madrid:20270220T173000
DTSTAMP:20260422T053653
CREATED:20260103T225319Z
LAST-MODIFIED:20260109T230826Z
UID:10000644-1803139200-1803144600@lux-mundi.org
SUMMARY:Roman Catholic Mass in English
DESCRIPTION:Please contact the centre for confirmation.
URL:https://lux-mundi.org/event/roman-catholic-mass-in-english/2027-02-20/
CATEGORIES:Mass
END:VEVENT
BEGIN:VEVENT
DTSTART;TZID=Europe/Madrid:20270227T160000
DTEND;TZID=Europe/Madrid:20270227T173000
DTSTAMP:20260422T053653
CREATED:20260103T225319Z
LAST-MODIFIED:20260109T230826Z
UID:10000645-1803744000-1803749400@lux-mundi.org
SUMMARY:Roman Catholic Mass in English
DESCRIPTION:Please contact the centre for confirmation.
URL:https://lux-mundi.org/event/roman-catholic-mass-in-english/2027-02-27/
CATEGORIES:Mass
END:VEVENT
BEGIN:VEVENT
DTSTART;TZID=Europe/Madrid:20270306T160000
DTEND;TZID=Europe/Madrid:20270306T173000
DTSTAMP:20260422T053653
CREATED:20260103T225319Z
LAST-MODIFIED:20260109T230826Z
UID:10000646-1804348800-1804354200@lux-mundi.org
SUMMARY:Roman Catholic Mass in English
DESCRIPTION:Please contact the centre for confirmation.
URL:https://lux-mundi.org/event/roman-catholic-mass-in-english/2027-03-06/
CATEGORIES:Mass
END:VEVENT
BEGIN:VEVENT
DTSTART;TZID=Europe/Madrid:20270313T160000
DTEND;TZID=Europe/Madrid:20270313T173000
DTSTAMP:20260422T053653
CREATED:20260103T225319Z
LAST-MODIFIED:20260109T230826Z
UID:10000647-1804953600-1804959000@lux-mundi.org
SUMMARY:Roman Catholic Mass in English
DESCRIPTION:Please contact the centre for confirmation.
URL:https://lux-mundi.org/event/roman-catholic-mass-in-english/2027-03-13/
CATEGORIES:Mass
END:VEVENT
BEGIN:VEVENT
DTSTART;TZID=Europe/Madrid:20270320T160000
DTEND;TZID=Europe/Madrid:20270320T173000
DTSTAMP:20260422T053653
CREATED:20260103T225319Z
LAST-MODIFIED:20260109T230826Z
UID:10000648-1805558400-1805563800@lux-mundi.org
SUMMARY:Roman Catholic Mass in English
DESCRIPTION:Please contact the centre for confirmation.
URL:https://lux-mundi.org/event/roman-catholic-mass-in-english/2027-03-20/
CATEGORIES:Mass
END:VEVENT
BEGIN:VEVENT
DTSTART;TZID=Europe/Madrid:20270327T160000
DTEND;TZID=Europe/Madrid:20270327T173000
DTSTAMP:20260422T053653
CREATED:20260103T225319Z
LAST-MODIFIED:20260109T230826Z
UID:10000649-1806163200-1806168600@lux-mundi.org
SUMMARY:Roman Catholic Mass in English
DESCRIPTION:Please contact the centre for confirmation.
URL:https://lux-mundi.org/event/roman-catholic-mass-in-english/2027-03-27/
CATEGORIES:Mass
END:VEVENT
BEGIN:VEVENT
DTSTART;TZID=Europe/Madrid:20270403T160000
DTEND;TZID=Europe/Madrid:20270403T173000
DTSTAMP:20260422T053653
CREATED:20260103T225319Z
LAST-MODIFIED:20260109T230826Z
UID:10000650-1806768000-1806773400@lux-mundi.org
SUMMARY:Roman Catholic Mass in English
DESCRIPTION:Please contact the centre for confirmation.
URL:https://lux-mundi.org/event/roman-catholic-mass-in-english/2027-04-03/
CATEGORIES:Mass
END:VEVENT
BEGIN:VEVENT
DTSTART;TZID=Europe/Madrid:20270410T160000
DTEND;TZID=Europe/Madrid:20270410T173000
DTSTAMP:20260422T053653
CREATED:20260103T225319Z
LAST-MODIFIED:20260109T230826Z
UID:10000651-1807372800-1807378200@lux-mundi.org
SUMMARY:Roman Catholic Mass in English
DESCRIPTION:Please contact the centre for confirmation.
URL:https://lux-mundi.org/event/roman-catholic-mass-in-english/2027-04-10/
CATEGORIES:Mass
END:VEVENT
BEGIN:VEVENT
DTSTART;TZID=Europe/Madrid:20270417T160000
DTEND;TZID=Europe/Madrid:20270417T173000
DTSTAMP:20260422T053653
CREATED:20260103T225319Z
LAST-MODIFIED:20260109T230826Z
UID:10000652-1807977600-1807983000@lux-mundi.org
SUMMARY:Roman Catholic Mass in English
DESCRIPTION:Please contact the centre for confirmation.
URL:https://lux-mundi.org/event/roman-catholic-mass-in-english/2027-04-17/
CATEGORIES:Mass
END:VEVENT
BEGIN:VEVENT
DTSTART;TZID=Europe/Madrid:20270424T160000
DTEND;TZID=Europe/Madrid:20270424T173000
DTSTAMP:20260422T053653
CREATED:20260103T225319Z
LAST-MODIFIED:20260109T230826Z
UID:10000653-1808582400-1808587800@lux-mundi.org
SUMMARY:Roman Catholic Mass in English
DESCRIPTION:Please contact the centre for confirmation.
URL:https://lux-mundi.org/event/roman-catholic-mass-in-english/2027-04-24/
CATEGORIES:Mass
END:VEVENT
BEGIN:VEVENT
DTSTART;TZID=Europe/Madrid:20270501T160000
DTEND;TZID=Europe/Madrid:20270501T173000
DTSTAMP:20260422T053653
CREATED:20260103T225319Z
LAST-MODIFIED:20260109T230826Z
UID:10000654-1809187200-1809192600@lux-mundi.org
SUMMARY:Roman Catholic Mass in English
DESCRIPTION:Please contact the centre for confirmation.
URL:https://lux-mundi.org/event/roman-catholic-mass-in-english/2027-05-01/
CATEGORIES:Mass
END:VEVENT
BEGIN:VEVENT
DTSTART;TZID=Europe/Madrid:20270508T160000
DTEND;TZID=Europe/Madrid:20270508T173000
DTSTAMP:20260422T053653
CREATED:20260103T225319Z
LAST-MODIFIED:20260109T230826Z
UID:10000655-1809792000-1809797400@lux-mundi.org
SUMMARY:Roman Catholic Mass in English
DESCRIPTION:Please contact the centre for confirmation.
URL:https://lux-mundi.org/event/roman-catholic-mass-in-english/2027-05-08/
CATEGORIES:Mass
END:VEVENT
BEGIN:VEVENT
DTSTART;TZID=Europe/Madrid:20270515T160000
DTEND;TZID=Europe/Madrid:20270515T173000
DTSTAMP:20260422T053653
CREATED:20260103T225319Z
LAST-MODIFIED:20260109T230826Z
UID:10000656-1810396800-1810402200@lux-mundi.org
SUMMARY:Roman Catholic Mass in English
DESCRIPTION:Please contact the centre for confirmation.
URL:https://lux-mundi.org/event/roman-catholic-mass-in-english/2027-05-15/
CATEGORIES:Mass
END:VEVENT
BEGIN:VEVENT
DTSTART;TZID=Europe/Madrid:20270522T160000
DTEND;TZID=Europe/Madrid:20270522T173000
DTSTAMP:20260422T053653
CREATED:20260103T225319Z
LAST-MODIFIED:20260109T230826Z
UID:10000657-1811001600-1811007000@lux-mundi.org
SUMMARY:Roman Catholic Mass in English
DESCRIPTION:Please contact the centre for confirmation.
URL:https://lux-mundi.org/event/roman-catholic-mass-in-english/2027-05-22/
CATEGORIES:Mass
END:VEVENT
BEGIN:VEVENT
DTSTART;TZID=Europe/Madrid:20270529T160000
DTEND;TZID=Europe/Madrid:20270529T173000
DTSTAMP:20260422T053653
CREATED:20260103T225319Z
LAST-MODIFIED:20260109T230826Z
UID:10000658-1811606400-1811611800@lux-mundi.org
SUMMARY:Roman Catholic Mass in English
DESCRIPTION:Please contact the centre for confirmation.
URL:https://lux-mundi.org/event/roman-catholic-mass-in-english/2027-05-29/
CATEGORIES:Mass
END:VEVENT
BEGIN:VEVENT
DTSTART;TZID=Europe/Madrid:20270605T160000
DTEND;TZID=Europe/Madrid:20270605T173000
DTSTAMP:20260422T053653
CREATED:20260103T225319Z
LAST-MODIFIED:20260109T230826Z
UID:10000659-1812211200-1812216600@lux-mundi.org
SUMMARY:Roman Catholic Mass in English
DESCRIPTION:Please contact the centre for confirmation.
URL:https://lux-mundi.org/event/roman-catholic-mass-in-english/2027-06-05/
CATEGORIES:Mass
END:VEVENT
BEGIN:VEVENT
DTSTART;TZID=Europe/Madrid:20270612T160000
DTEND;TZID=Europe/Madrid:20270612T173000
DTSTAMP:20260422T053653
CREATED:20260103T225319Z
LAST-MODIFIED:20260109T230826Z
UID:10000660-1812816000-1812821400@lux-mundi.org
SUMMARY:Roman Catholic Mass in English
DESCRIPTION:Please contact the centre for confirmation.
URL:https://lux-mundi.org/event/roman-catholic-mass-in-english/2027-06-12/
CATEGORIES:Mass
END:VEVENT
BEGIN:VEVENT
DTSTART;TZID=Europe/Madrid:20270619T160000
DTEND;TZID=Europe/Madrid:20270619T173000
DTSTAMP:20260422T053653
CREATED:20260103T225319Z
LAST-MODIFIED:20260109T230826Z
UID:10000661-1813420800-1813426200@lux-mundi.org
SUMMARY:Roman Catholic Mass in English
DESCRIPTION:Please contact the centre for confirmation.
URL:https://lux-mundi.org/event/roman-catholic-mass-in-english/2027-06-19/
CATEGORIES:Mass
END:VEVENT
BEGIN:VEVENT
DTSTART;TZID=Europe/Madrid:20270626T160000
DTEND;TZID=Europe/Madrid:20270626T173000
DTSTAMP:20260422T053653
CREATED:20260103T225319Z
LAST-MODIFIED:20260109T230826Z
UID:10000662-1814025600-1814031000@lux-mundi.org
SUMMARY:Roman Catholic Mass in English
DESCRIPTION:Please contact the centre for confirmation.
URL:https://lux-mundi.org/event/roman-catholic-mass-in-english/2027-06-26/
CATEGORIES:Mass
END:VEVENT
BEGIN:VEVENT
DTSTART;TZID=Europe/Madrid:20270703T160000
DTEND;TZID=Europe/Madrid:20270703T173000
DTSTAMP:20260422T053653
CREATED:20260103T225319Z
LAST-MODIFIED:20260109T230826Z
UID:10000663-1814630400-1814635800@lux-mundi.org
SUMMARY:Roman Catholic Mass in English
DESCRIPTION:Please contact the centre for confirmation.
URL:https://lux-mundi.org/event/roman-catholic-mass-in-english/2027-07-03/
CATEGORIES:Mass
END:VEVENT
BEGIN:VEVENT
DTSTART;TZID=Europe/Madrid:20270710T160000
DTEND;TZID=Europe/Madrid:20270710T173000
DTSTAMP:20260422T053653
CREATED:20260103T225319Z
LAST-MODIFIED:20260109T230826Z
UID:10000664-1815235200-1815240600@lux-mundi.org
SUMMARY:Roman Catholic Mass in English
DESCRIPTION:Please contact the centre for confirmation.
URL:https://lux-mundi.org/event/roman-catholic-mass-in-english/2027-07-10/
CATEGORIES:Mass
END:VEVENT
BEGIN:VEVENT
DTSTART;TZID=Europe/Madrid:20270717T160000
DTEND;TZID=Europe/Madrid:20270717T173000
DTSTAMP:20260422T053653
CREATED:20260103T225319Z
LAST-MODIFIED:20260109T230826Z
UID:10000665-1815840000-1815845400@lux-mundi.org
SUMMARY:Roman Catholic Mass in English
DESCRIPTION:Please contact the centre for confirmation.
URL:https://lux-mundi.org/event/roman-catholic-mass-in-english/2027-07-17/
CATEGORIES:Mass
END:VEVENT
BEGIN:VEVENT
DTSTART;TZID=Europe/Madrid:20270724T160000
DTEND;TZID=Europe/Madrid:20270724T173000
DTSTAMP:20260422T053653
CREATED:20260103T225319Z
LAST-MODIFIED:20260109T230826Z
UID:10000666-1816444800-1816450200@lux-mundi.org
SUMMARY:Roman Catholic Mass in English
DESCRIPTION:Please contact the centre for confirmation.
URL:https://lux-mundi.org/event/roman-catholic-mass-in-english/2027-07-24/
CATEGORIES:Mass
END:VEVENT
END:VCALENDAR