BEGIN:VCALENDAR
VERSION:2.0
PRODID:-//Lux Mundi - ECPv6.15.16//NONSGML v1.0//EN
CALSCALE:GREGORIAN
METHOD:PUBLISH
X-ORIGINAL-URL:https://lux-mundi.org
X-WR-CALDESC:Events for Lux Mundi
REFRESH-INTERVAL;VALUE=DURATION:PT1H
X-Robots-Tag:noindex
X-PUBLISHED-TTL:PT1H
BEGIN:VTIMEZONE
TZID:Europe/Madrid
BEGIN:DAYLIGHT
TZOFFSETFROM:+0100
TZOFFSETTO:+0200
TZNAME:CEST
DTSTART:20270328T010000
END:DAYLIGHT
BEGIN:STANDARD
TZOFFSETFROM:+0200
TZOFFSETTO:+0100
TZNAME:CET
DTSTART:20271031T010000
END:STANDARD
BEGIN:DAYLIGHT
TZOFFSETFROM:+0100
TZOFFSETTO:+0200
TZNAME:CEST
DTSTART:20280326T010000
END:DAYLIGHT
BEGIN:STANDARD
TZOFFSETFROM:+0200
TZOFFSETTO:+0100
TZNAME:CET
DTSTART:20281029T010000
END:STANDARD
BEGIN:DAYLIGHT
TZOFFSETFROM:+0100
TZOFFSETTO:+0200
TZNAME:CEST
DTSTART:20290325T010000
END:DAYLIGHT
BEGIN:STANDARD
TZOFFSETFROM:+0200
TZOFFSETTO:+0100
TZNAME:CET
DTSTART:20291028T010000
END:STANDARD
END:VTIMEZONE
BEGIN:VEVENT
DTSTART;TZID=Europe/Madrid:20280107T110000
DTEND;TZID=Europe/Madrid:20280107T130000
DTSTAMP:20260423T040210
CREATED:20260103T223352Z
LAST-MODIFIED:20260103T223352Z
UID:10000368-1830855600-1830862800@lux-mundi.org
SUMMARY:Coffee Morning
DESCRIPTION:A Coffee with Everyone\nEvery Friday morning\, the centre opens its doors to share a cup of tea or coffee\, a refreshing drink\, friendly conversation\, and a slice of freshly baked homemade cake. \nIt’s an open invitation to friends\, visitors\, and supporters\, in a relaxed and welcoming atmosphere — the perfect setting to meet others\, make new friends\, and enjoy an easy-going morning together. \nYou can also: \nFind out about the centre’s activities\nPick up English-language newspapers\nBrowse our charity shop\nExplore the library \n  \n🌟 Start your weekend with joy\, flavour\, and good company — we look forward to seeing you!
URL:https://lux-mundi.org/event/coffee-morning/2028-01-07/
LOCATION:Lux Mundi – Torre del Mar\, Avenida Moscatel\, 1 «I»\, C. Casa de la Viña\, Torre del Mar\, Málaga\, 29740\, Spain
CATEGORIES:For everyone
ATTACH;FMTTYPE=image/jpeg:https://lux-mundi.org/wp-content/uploads/2016/04/Easte-Bazaar-Sue-5-e1460458543620.jpeg
END:VEVENT
BEGIN:VEVENT
DTSTART;TZID=Europe/Madrid:20280114T110000
DTEND;TZID=Europe/Madrid:20280114T130000
DTSTAMP:20260423T040210
CREATED:20260103T223352Z
LAST-MODIFIED:20260103T223352Z
UID:10000369-1831460400-1831467600@lux-mundi.org
SUMMARY:Coffee Morning
DESCRIPTION:A Coffee with Everyone\nEvery Friday morning\, the centre opens its doors to share a cup of tea or coffee\, a refreshing drink\, friendly conversation\, and a slice of freshly baked homemade cake. \nIt’s an open invitation to friends\, visitors\, and supporters\, in a relaxed and welcoming atmosphere — the perfect setting to meet others\, make new friends\, and enjoy an easy-going morning together. \nYou can also: \nFind out about the centre’s activities\nPick up English-language newspapers\nBrowse our charity shop\nExplore the library \n  \n🌟 Start your weekend with joy\, flavour\, and good company — we look forward to seeing you!
URL:https://lux-mundi.org/event/coffee-morning/2028-01-14/
LOCATION:Lux Mundi – Torre del Mar\, Avenida Moscatel\, 1 «I»\, C. Casa de la Viña\, Torre del Mar\, Málaga\, 29740\, Spain
CATEGORIES:For everyone
ATTACH;FMTTYPE=image/jpeg:https://lux-mundi.org/wp-content/uploads/2016/04/Easte-Bazaar-Sue-5-e1460458543620.jpeg
END:VEVENT
BEGIN:VEVENT
DTSTART;TZID=Europe/Madrid:20280121T110000
DTEND;TZID=Europe/Madrid:20280121T130000
DTSTAMP:20260423T040210
CREATED:20260103T223352Z
LAST-MODIFIED:20260103T223352Z
UID:10000370-1832065200-1832072400@lux-mundi.org
SUMMARY:Coffee Morning
DESCRIPTION:A Coffee with Everyone\nEvery Friday morning\, the centre opens its doors to share a cup of tea or coffee\, a refreshing drink\, friendly conversation\, and a slice of freshly baked homemade cake. \nIt’s an open invitation to friends\, visitors\, and supporters\, in a relaxed and welcoming atmosphere — the perfect setting to meet others\, make new friends\, and enjoy an easy-going morning together. \nYou can also: \nFind out about the centre’s activities\nPick up English-language newspapers\nBrowse our charity shop\nExplore the library \n  \n🌟 Start your weekend with joy\, flavour\, and good company — we look forward to seeing you!
URL:https://lux-mundi.org/event/coffee-morning/2028-01-21/
LOCATION:Lux Mundi – Torre del Mar\, Avenida Moscatel\, 1 «I»\, C. Casa de la Viña\, Torre del Mar\, Málaga\, 29740\, Spain
CATEGORIES:For everyone
ATTACH;FMTTYPE=image/jpeg:https://lux-mundi.org/wp-content/uploads/2016/04/Easte-Bazaar-Sue-5-e1460458543620.jpeg
END:VEVENT
BEGIN:VEVENT
DTSTART;TZID=Europe/Madrid:20280124T163000
DTEND;TZID=Europe/Madrid:20280124T180000
DTSTAMP:20260423T040210
CREATED:20260103T224428Z
LAST-MODIFIED:20260103T224516Z
UID:10000549-1832344200-1832349600@lux-mundi.org
SUMMARY:Monthly Movies
DESCRIPTION:Come and join us for a monthly afternoon featuring select classic movies from the golden era of Hollywood. \nTICKET  3€\nTIME: 16.30 H \nLocation: Lux Mundi – Avenida Moscatel\,1\,I\nEntrando por Calle Rioja (Torre del Mar) \n 
URL:https://lux-mundi.org/event/monthly-movies/2028-01-24/
LOCATION:Lux Mundi – Torre del Mar\, Avenida Moscatel\, 1 «I»\, C. Casa de la Viña\, Torre del Mar\, Málaga\, 29740\, Spain
CATEGORIES:For everyone
ATTACH;FMTTYPE=image/jpeg:https://lux-mundi.org/wp-content/uploads/2026/01/MovieClassicHollywoodMatinee.jpg
END:VEVENT
BEGIN:VEVENT
DTSTART;TZID=Europe/Madrid:20280128T110000
DTEND;TZID=Europe/Madrid:20280128T130000
DTSTAMP:20260423T040210
CREATED:20260103T223352Z
LAST-MODIFIED:20260103T223352Z
UID:10000371-1832670000-1832677200@lux-mundi.org
SUMMARY:Coffee Morning
DESCRIPTION:A Coffee with Everyone\nEvery Friday morning\, the centre opens its doors to share a cup of tea or coffee\, a refreshing drink\, friendly conversation\, and a slice of freshly baked homemade cake. \nIt’s an open invitation to friends\, visitors\, and supporters\, in a relaxed and welcoming atmosphere — the perfect setting to meet others\, make new friends\, and enjoy an easy-going morning together. \nYou can also: \nFind out about the centre’s activities\nPick up English-language newspapers\nBrowse our charity shop\nExplore the library \n  \n🌟 Start your weekend with joy\, flavour\, and good company — we look forward to seeing you!
URL:https://lux-mundi.org/event/coffee-morning/2028-01-28/
LOCATION:Lux Mundi – Torre del Mar\, Avenida Moscatel\, 1 «I»\, C. Casa de la Viña\, Torre del Mar\, Málaga\, 29740\, Spain
CATEGORIES:For everyone
ATTACH;FMTTYPE=image/jpeg:https://lux-mundi.org/wp-content/uploads/2016/04/Easte-Bazaar-Sue-5-e1460458543620.jpeg
END:VEVENT
END:VCALENDAR